BEGIN:VCALENDAR
VERSION:2.0
PRODID:-//工芸帯地　洛風林 - ECPv6.1.3//NONSGML v1.0//EN
CALSCALE:GREGORIAN
METHOD:PUBLISH
X-ORIGINAL-URL:https://rakufulin.com
X-WR-CALDESC:工芸帯地　洛風林 のイベント
REFRESH-INTERVAL;VALUE=DURATION:PT1H
X-Robots-Tag:noindex
X-PUBLISHED-TTL:PT1H
BEGIN:VTIMEZONE
TZID:Asia/Tokyo
BEGIN:STANDARD
TZOFFSETFROM:+0900
TZOFFSETTO:+0900
TZNAME:JST
DTSTART:20210101T000000
END:STANDARD
END:VTIMEZONE
BEGIN:VEVENT
DTSTART;TZID=Asia/Tokyo:20221106T130000
DTEND;TZID=Asia/Tokyo:20221106T160000
DTSTAMP:20260421T093619
CREATED:20221018T073340Z
LAST-MODIFIED:20221019T015535Z
UID:3826-1667739600-1667750400@rakufulin.com
SUMMARY:対談 「染織文化財の保存修理と修理技術」
DESCRIPTION:対談会フライヤ-Download\n\n\n\n対談 「染織文化財の保存修理と修理技術」 \n\n\n\n「染織文化財保存修理を安定的に継続していく上で不可欠な保存技術（文化財を支える用具・材料等）の関係性や失われてゆく技術・材料の必要性について。」 \n\n\n\n対談者 \n\n\n\n勝山 健史 \n\n\n\n京都、西陣で創業「勝山織物」専務取締役。2002年に 長野県飯島町に養蚕から織まで一貫製作を可能にした「勝山織物絹織製作研究所」を設立。研究者である志村明氏、秋本賀子氏とともに博物館の文化財修理用の絹布製作を手掛け、代々受け継いだ染織技術と素材の組み合わせを考察した織物を製作。 \n\n\n\n城山 好美  \n\n\n\n国宝や重要文化財などの装潢文化財・染織文化財の保存修理を手掛ける株式会社「松鶴堂」修理技術部にて染織品の修理を担う。長年、文化財に実際に触れてきた中で、元の織物を傷めることなく調和する修理絹布を求めて、勝山織物絹織製作研究所に修理用絹布を依頼。 \n\n\n\n                                                                                                                                                                                               とき：２０２２年１１月６日（日）１３：００～※ご予約制の為、定員になり次第締め切らせていただきます。　 　 \n\n\n\n　　ところ：太宰府天満宮境内　文書館〒818-0117福岡県太宰府市宰府4丁目7番1号ご予約・お問い合わせ：きもの 田中屋　                  mail:kimonotanakaya@gmail.comtel: 0943・77・5922 \n\n\n\n＊定員になり次第受付を締め切らせていただきます。＊コロナウィルス感染拡大防止対策のガイドラインに基づき開催させて頂きますので、来場の際はご協力くださいますようお願い申し上げます。 \n\n\n\n共催：勝山織物絹織製作研究所・きもの田中屋  \n\n\n\n後援：工芸帯地 洛風林 \n\n\n\n\n\n\n\n本講演会は文化庁の美術工芸品保存修理用具・原材料管理等業務支援事業の助成を受けています。
URL:https://rakufulin.com/event/%e5%af%be%e8%ab%87-%e3%80%8c%e6%9f%93%e7%b9%94%e6%96%87%e5%8c%96%e8%b2%a1%e3%81%ae%e4%bf%9d%e5%ad%98%e4%bf%ae%e7%90%86%e3%81%a8%e4%bf%ae%e7%90%86%e6%8a%80%e8%a1%93%e3%80%8d
LOCATION:太宰府天満宮\, 〒818-0117　福岡県太宰府市宰府4丁目7番1号 太宰府天満宮社務所\, 日本
ORGANIZER;CN="%E3%81%8D%E3%82%82%E3%81%AE%E3%80%80%E7%94%B0%E4%B8%AD%E5%B1%8B":MAILTO:kimonotanakaya@gmail.com
END:VEVENT
BEGIN:VEVENT
DTSTART;TZID=Asia/Tokyo:20221022T100000
DTEND;TZID=Asia/Tokyo:20221024T180000
DTSTAMP:20260421T093619
CREATED:20221018T015133Z
LAST-MODIFIED:20221018T085431Z
UID:3824-1666432800-1666634400@rakufulin.com
SUMMARY:呉服の粋 ふくひろにて「工芸帯地　洛風林展」
DESCRIPTION:「工芸帯地　 洛風林展 」 \n\n\n\nとき：10/22(土)10/23(日)10/24(月) （①10:30 〜②14:00〜 ③16:00〜　＊ご都合の良い日時をご予約ください。） \n\n\n\nところ：呉服の粋 ふくひろ  \n\n\n\n  〒802-0006 福岡県北九州市小倉北区魚町2-3-5　 \n\n\n\n   TEL　093-521-0329 \n\n\n\n＊10/22(土)〜10/24(月) 堀江麗子、　10/22(土)・10/23(日)堀江愛子　在店させて頂く予定です \n\n\n\n＊ご予約、詳細については　呉服の粋 ふくひろ様 へお問い合わせください。
URL:https://rakufulin.com/event/%e5%91%89%e6%9c%8d%e3%81%ae%e7%b2%8b-%e3%81%b5%e3%81%8f%e3%81%b2%e3%82%8d%e3%81%ab%e3%81%a6%e3%80%8c%e5%b7%a5%e8%8a%b8%e5%b8%af%e5%9c%b0%e3%80%80%e6%b4%9b%e9%a2%a8%e6%9e%97%e5%b1%95%e3%80%8d
LOCATION:呉服の粋ふくひろ\, 〒802-0006 福岡県北九州市小倉北区魚町北九州市小倉北区魚町二丁目３の５\, 日本
END:VEVENT
BEGIN:VEVENT
DTSTART;TZID=Asia/Tokyo:20221012T100000
DTEND;TZID=Asia/Tokyo:20221016T190000
DTSTAMP:20260421T093619
CREATED:20221009T013223Z
LAST-MODIFIED:20221009T022420Z
UID:3257-1665568800-1665946800@rakufulin.com
SUMMARY:伊勢丹新宿店 「豊聚祭　秋の三四十会」
DESCRIPTION:とき：10月12日（水）〜16日（日） \n\n\n\nところ：本館７階　伊勢丹呉服/特選着物 \n\n\n\n ＊10月13日～16日　堀江麗子在店させて頂く予定です。 \n\n\n\n「豊聚祭」詳細 \n\n\n\n※展示会の詳細は伊勢丹新宿店特選呉服様にお問い合わせください。
URL:https://rakufulin.com/event/%e4%bc%8a%e5%8b%a2%e4%b8%b9%e6%96%b0%e5%ae%bf%e5%ba%97-%e3%80%8c%e8%b1%8a%e8%81%9a%e7%a5%ad%e3%80%80%e7%a7%8b%e3%81%ae%e4%b8%89%e5%9b%9b%e5%8d%81%e4%bc%9a%e3%80%8d
LOCATION:三越伊勢丹　新宿店\, 〒160-0022 東京都新宿区新宿3-14-1\, 日本
END:VEVENT
BEGIN:VEVENT
DTSTART;TZID=Asia/Tokyo:20221012T120000
DTEND;TZID=Asia/Tokyo:20221015T183000
DTSTAMP:20260421T093619
CREATED:20221009T010810Z
LAST-MODIFIED:20221009T010937Z
UID:3828-1665576000-1665858600@rakufulin.com
SUMMARY:青山八木にて「勝山健史　織物展」
DESCRIPTION:勝山健史　織物展10月12日(水)〜10月15日(土)12時〜18時半 \n\n\n\n「 古裂の再構築」意欲的な帯づくりを続ける勝山健史、今回は外国の裂、日本の裂を本歌に柄を再構築して帯を蘇らせました。」（青山八木Instagram   https://www.instagram.com/aoyama_yagi/ より） \n\n\n\n※詳細は青山八木様にお問合せください。
URL:https://rakufulin.com/event/%e9%9d%92%e5%b1%b1%e5%85%ab%e6%9c%a8%e3%81%ab%e3%81%a6%e3%80%8c%e5%8b%9d%e5%b1%b1%e5%81%a5%e5%8f%b2%e3%80%80%e7%b9%94%e7%89%a9%e5%b1%95%e3%80%8d
LOCATION:青山　八木\, 1070062 南青山1-4-2 八並ビル1階\, 日本
ORGANIZER;CN="%E9%9D%92%E5%B1%B1%E3%80%80%E5%85%AB%E6%9C%A8":MAILTO:aoyamayg@titan.ocn.ne.jp
END:VEVENT
BEGIN:VEVENT
DTSTART;TZID=Asia/Tokyo:20220924T110000
DTEND;TZID=Asia/Tokyo:20220926T180000
DTSTAMP:20260421T093619
CREATED:20220913T072134Z
LAST-MODIFIED:20220924T010858Z
UID:3948-1664017200-1664215200@rakufulin.com
SUMMARY:中村屋本店にて「洛風林の織帯展」
DESCRIPTION:中村屋本店にて「洛風林の織帯展」 \n\n\n\nとき　2022年9月24日(土)〜26日(月) \n\n\n\n　　　11：00〜18：00 \n\n\n\n         ＊24日(土)は洛風林　堀江麗子が在店させて頂きます。 \n\n\n\nところ　趣味のきもの 　中村屋本店 \n\n\n\n　　大阪市中央区心斎橋筋2丁目8の27 \n\n\n\n　　　　Tel.06-6213-1552 \n\n\n\n　＊お問い合わせは中村屋本店様までお願いいたします。
URL:https://rakufulin.com/event/%e4%b8%ad%e6%9d%91%e5%b1%8b%e6%9c%ac%e5%ba%97%e3%81%ab%e3%81%a6%e3%80%8c%e6%b4%9b%e9%a2%a8%e6%9e%97%e3%81%ae%e7%b9%94%e5%b8%af%e5%b1%95%e3%80%8d
LOCATION:中村屋本店\, 〒542-0085 大阪市中央区心斎橋筋2丁目8の27
END:VEVENT
BEGIN:VEVENT
DTSTART;TZID=Asia/Tokyo:20220916T110000
DTEND;TZID=Asia/Tokyo:20220920T190000
DTSTAMP:20260421T093619
CREATED:20220909T052553Z
LAST-MODIFIED:20220913T080925Z
UID:3822-1663326000-1663700400@rakufulin.com
SUMMARY:銀座むら田　呉服専業110年記念「秋・冬創案特選染織個展」にて
DESCRIPTION:銀座むら田　呉服専業110年記念「秋・冬創案特選染織個展」にて \n\n\n\n「ー特集　創作帯の世界ー」に出展させて頂きます。 \n\n\n\nとき　2022年9月１６日（金）〜２０日（火）　 \n\n\n\n11：00〜19：00（最終日18：00まで） \n\n\n\nところ　　銀座かねまつホール　 \n\n\n\n＊９月１７日（土）①１１：３０〜　②１４：３０〜　のお話会（お申し込み制）に　洛風林　堀江麗子が参加させて頂きます。 \n\n\n\n※お話会のご予約は９月１５日（木）までに銀座むら田様宛にお申し込み下さい。 \n\n\n\n　お問い合わせ：銀座むら田　　 \n\n\n\n　　　　　　　　東京都中央区銀座6-7-7 \n\n\n\n　　　       　　　　　tel:03-3571-2077 \n\n\n\n          　　　 　 　　　mail:murata@ginzamurata.co.jp \n\n\n\n　　　
URL:https://rakufulin.com/event/%e9%8a%80%e5%ba%a7%e3%82%80%e3%82%89%e7%94%b0%e3%80%80%e5%91%89%e6%9c%8d%e5%b0%82%e6%a5%ad110%e5%b9%b4%e8%a8%98%e5%bf%b5%e3%80%8c%e7%a7%8b%e3%83%bb%e5%86%ac%e5%89%b5%e6%a1%88%e7%89%b9%e9%81%b8
LOCATION:銀座かねまつホール\, 東京都中央区銀座6-9-9\, 日本
ORGANIZER;CN="%E9%8A%80%E5%BA%A7%E3%82%80%E3%82%89%E7%94%B0":MAILTO:murata@ginzamurata.co.jp
END:VEVENT
BEGIN:VEVENT
DTSTART;TZID=Asia/Tokyo:20220819T103000
DTEND;TZID=Asia/Tokyo:20220821T183000
DTSTAMP:20260421T093619
CREATED:20220809T020042Z
LAST-MODIFIED:20220809T020751Z
UID:3815-1660905000-1661106600@rakufulin.com
SUMMARY:たのしいきもの叶や　にて「工芸帯地　洛風林展」
DESCRIPTION:「工芸帯地　洛風林展」 \n\n\n\nところ：たのしいきもの　叶や \n\n\n\n　　〒730-0035 広島県広島市中区本通７−２１　　　TEL：082-247-4401 \n\n\n\n　　　https://kimono-kanouya.com \n\n\n\nとき：２０２２年８月１９日（金）〜２1日（日）　 \n\n\n\n　　　１０：３０〜１８：３０ \n\n\n\n※１９日（金）は※午後より、 \n\n\n\n　２０日（土）は終日、洛風林　堀江麗子在店予定。 \n\n\n\n　　　
URL:https://rakufulin.com/event/%e3%81%9f%e3%81%ae%e3%81%97%e3%81%84%e3%81%8d%e3%82%82%e3%81%ae%e5%8f%b6%e3%82%84%e3%80%80%e3%81%ab%e3%81%a6%e3%80%8c%e5%b7%a5%e8%8a%b8%e5%b8%af%e5%9c%b0%e3%80%80%e6%b4%9b%e9%a2%a8%e6%9e%97%e5%b1%95
LOCATION:たのしいきもの 叶や\, 広島県広島市中区本通７−２１\, 日本
END:VEVENT
BEGIN:VEVENT
DTSTART;TZID=Asia/Tokyo:20220707T000000
DTEND;TZID=Asia/Tokyo:20220710T170000
DTSTAMP:20260421T093619
CREATED:20220607T053026Z
LAST-MODIFIED:20220627T080934Z
UID:3592-1657152000-1657472400@rakufulin.com
SUMMARY:勝山健史織物展「古裂の再構築」東京展
DESCRIPTION:〜世界（主に日本）の古裂を本歌に現代の帯に〜 \n\n\n\n九寸名古屋帯「オスマン草花文」\n\n\n\n勝山健史織物展「古裂の再構築」〜世界（主に日本）の古裂を本歌に現代の帯に〜 \n\n\n\nお陰さまで、今年13回目を迎えました勝山健史織物展、5月の国立京都国際会館での発表に続き三年ぶりに東京代官山ヒルサイドテラスでも開催いたします。 \n\n\n\n「古裂の再構築」をテーマに、世界、主に日本の古裂を本歌に現代の帯として勝山氏の視点で表現された着物や帯の新作を中心に美しい絹織物の作品を展示いたします。 \n\n\n\n様々不安な出来事が起こる昨今、このように毎年展覧会を開催できますのは日頃より応援し支えて下さる皆様のお力添えのお陰だと心より感謝申し上げますと共に、ものづくりをする人にとって、どんな苦境の中でも表現し続ける事がとても大切であり、それを発表する場を設け多くの方にご覧いただく事が私たちの使命だとますます感じております。 \n\n\n\n長年培ってきた西陣の技術と審美眼、一方で国宝重要文化財保存のお仕事から得る貴重な情報を現代の物づくりに反映した勝山健史の織物を今年もご高覧いただけましたら幸いです。 \n\n\n\n工芸帯地 洛風林　堀江麗子 \n\n\n\n \n\n\n\n東京展詳細 \n\n\n\n日時：7月7日（木）12:00〜19:00 \n\n\n\n　　　8日（金）、9日（土）11:00～19:00 \n\n\n\n　　　10日（日）11:00〜17:00 \n\n\n\n※予約制ではございませんがコロナ感染防止対策のため入場制限させて頂く場合がございます。 \n\n\n\n※ご案内状がない方でもご自由にご高覧いただけます。 \n\n\n\n※当展覧会での販売はいたしておりません。 \n\n\n\n場所：代官山ヒルサイドテラス　Ｅ棟ロビー（http://hillsideterrace.com/） \n\n\n\n主催：工芸帯地　洛風林https://rakufulin.com/ \n\n\n\nお問い合わせ：工芸帯地　洛風林　Website内コンタクトフォーム、又はお電話（ tel.075-231-6536）にてお問い合わせください。 \n\n\n\n \n\n\n\n﻿ \n\n\n\n　　勝山健史　ご挨拶 \n\n\n\n「今年も恒例とさせていただいております新作発表を、開催させていただくことになりました。 \n\n\n\n例年何かしらの古裂、器、鉄柵門扉など様々なデザインを参考に制作してきております。その柄の持つ美しさやおおらかさを布に表現して行くのですが、今年は帯となって締めていただいた時のイメージをより優先して創作するように心がけました。 \n\n\n\n日本には四季があり、きもの はその四季を纏い楽しむことができる衣服です。しかし、その図柄があまりにも目立つようなものは現代の着用シーンにはそぐわないように思います。 \n\n\n\n古裂の持つ存在感や美しさを今の時代に即するように、例えば沢山の色数を微妙な色の差（濃淡であったり糸質の違い）で表現することによりとても静かで品の良い帯に仕上げるよう努めました。 \n\n\n\n今年も長野の桑園では春繭がすくすく育っております。この尊い命を無駄にすることなく美しい布に変えていくよう励みます。是非ご高覧いただけますようお願い申し上げます。」 \n\n\n\n勝山健史
URL:https://rakufulin.com/event/%e5%8b%9d%e5%b1%b1%e5%81%a5%e5%8f%b2%e7%b9%94%e7%89%a9%e5%b1%95%e3%80%8c%e5%8f%a4%e8%a3%82%e3%81%ae%e5%86%8d%e6%a7%8b%e7%af%89%e3%80%8d%e6%9d%b1%e4%ba%ac%e5%b1%95
LOCATION:代官山ヒルサイドテラス\, 東京都渋谷区猿楽町２９－８
END:VEVENT
BEGIN:VEVENT
DTSTART;TZID=Asia/Tokyo:20220520T000000
DTEND;TZID=Asia/Tokyo:20220522T160000
DTSTAMP:20260421T093619
CREATED:20220421T003011Z
LAST-MODIFIED:20220607T043546Z
UID:3248-1653004800-1653235200@rakufulin.com
SUMMARY:勝山健史織物展「古裂の再構築」　　　　　　京都展
DESCRIPTION:〜世界（主に日本）の古裂を本歌に現代の帯に〜 \n\n\n\n九寸名古屋帯「西王母」\n\n\n\n\n\n\n\n\n\n勝山健史織物展「古裂の再構築」〜世界（主に日本）の古裂を本歌に現代の帯に〜 \n\n\n\nお陰さまで、今年13回目を迎えます勝山健史織物展は「古裂の再構築」をテーマに、世界、主に日本の古裂を本歌に現代の帯として勝山氏の視点で表現された新作を中心に展示いたします。 \n\n\n\n様々な不安な出来事が起こる昨今、このように毎年展覧会を開催できますのは日頃より応援し支えて下さる皆様のお力添えのお陰だと心より感謝申し上げます。今年は三年ぶりに東京代官山での展覧会も予定しております。ものづくりをする人にとって、どんな苦境の中でも表現し続ける事がとても大切で、それを発表する場を設け多くの方にご覧いただく事が私たちの使命だとますます感じております。 \n\n\n\n長年培ってきた西陣の技術と審美眼、一方で国宝重要文化財保存のお仕事から得る貴重な情報を現代の物づくりに反映した勝山健史の織物を今年もご高覧いただけましたら幸いです。 \n\n\n\n工芸帯地 洛風林　堀江麗子 \n\n\n\n京都展詳細 \n\n\n\n日時：5月20日（金）12:00〜17:00 \n\n\n\n　　　　  21日（土）10:00～17:00 \n\n\n\n　　　　  22日（日）10:00〜16:00 \n\n\n\n場所：国立京都国際会館　本館５F  \n\n\n\n　　　Room５５８・５５９　（https://www.icckyoto.or.jp） \n\n\n\n　※次回展覧会予定　２０２２年７月７日〜１０日　代官山ヒルサイドテラスにて　 \n\n\n\n主催：工芸帯地　洛風林 \n\n\n\nお問い合わせ：工芸帯地　洛風林　Website内コンタクトフォーム、又はお電話（ tel.075-231-6536）にてお問い合わせください。 \n\n\n\n \n\n\n\n \n\n\n\n \n\n\n\n　勝山健史御挨拶 \n\n\n\n「今年も恒例とさせていただいております新作発表を、開催させていただくことになりました。 \n\n\n\n例年何かしらの古裂、器、鉄柵門扉など様々なデザインを参考に制作してきております。その柄の持つ美しさやおおらかさを布に表現して行くのですが、今年は帯となって締めていただいた時のイメージをより優先して創作するように心がけました。 \n\n\n\n日本には四季があり、きもの はその四季を纏い楽しむことができる衣服です。しかし、その図柄があまりにも目立つようなものは現代の着用シーンにはそぐわないように思います。 \n\n\n\n古裂の持つ存在感や美しさを今の時代に即するように、例えば沢山の色数を微妙な色の差（濃淡であったり糸質の違い）で表現することによりとても静かで品の良い帯に仕上げるよう努めました。 \n\n\n\n今年も桑園の剪定作業を終え、春繭を迎えます。この尊い命を無駄にすることなく美しい布に変えていくよう励みます。是非ご高覧いただけますようお願い申し上げます。 \n\n\n\n勝山健史
URL:https://rakufulin.com/event/%e5%8b%9d%e5%b1%b1%e5%81%a5%e5%8f%b2%e7%b9%94%e7%89%a9%e5%b1%95%e3%80%8c%e5%8f%a4%e8%a3%82%e3%81%ae%e5%86%8d%e6%a7%8b%e7%af%89%e3%80%8d
LOCATION:国立京都国際会館\, 京都市左京区岩倉大鷺町４２２
END:VEVENT
BEGIN:VEVENT
DTSTART;TZID=Asia/Tokyo:20220415T110000
DTEND;TZID=Asia/Tokyo:20220418T183000
DTSTAMP:20260421T093619
CREATED:20220411T023700Z
LAST-MODIFIED:20220411T031535Z
UID:3308-1650020400-1650306600@rakufulin.com
SUMMARY:きものサロン逸美にて　洛風林展
DESCRIPTION:きものサロン逸美にて「 洛風林展」 \n\n\n\nとき：2022年４月15日（金）〜18日（月）11：00〜18：30（最終日は17：00まで） \n\n\n\n16日（土）12：00〜18：00、17日（日）11：00〜16：00堀江麗子在廊予定です。 \n\n\n\nところ・お問い合わせ：きもの サロン逸美 \n\n\n\n \n\n\n\n〒370−0052　群馬県高崎市旭町25山崎ビル１F　TEL.027−324−3466  \n\n\n\nHP：https://kimono-henmi.com \n\n\n\ninstagram:https://www.instagram.com/kimonohenmi/ \n\n\n\nきものサロン逸美さまにて洛風林展を開催して頂きます。主人の逸見さんの着こなしはいつもエレガントで華やか、そしてチャーミングなお人柄でお客様はもちろん呉服屋さんの間でも多くのファンがいらっしゃいます。　 \n\n\n\n日ごろから洛風林の帯を愛用してくださっている逸美さんならではの着こなしの秘訣など、新作の帯と共に楽しい時間をお過ごしください。
URL:https://rakufulin.com/event/%e3%81%8d%e3%82%82%e3%81%ae%e3%82%b5%e3%83%ad%e3%83%b3%e9%80%b8%e7%be%8e%e3%81%ab%e3%81%a6%e3%80%80%e6%b4%9b%e9%a2%a8%e6%9e%97%e5%b1%95
LOCATION:きものサロン逸美\, 群馬県高崎市旭町２５山崎ビル１F
END:VEVENT
BEGIN:VEVENT
DTSTART;TZID=Asia/Tokyo:20220316T100000
DTEND;TZID=Asia/Tokyo:20220321T190000
DTSTAMP:20260421T093619
CREATED:20220315T081417Z
LAST-MODIFIED:20220315T081655Z
UID:3102-1647424800-1647889200@rakufulin.com
SUMMARY:伊勢丹新宿店にて「春の三四十会」
DESCRIPTION:「三四十会（みよそかい）は、昭和８年（1933年）から続く伊勢丹呉服の歴史ある名物催事です。春と秋の年二回、洛風林のほか京都の老舗呉服問屋の着物や帯を楽しんでご覧いただける会です。 \n\n\n\n伊勢丹さんの前身は1886年創業の「伊勢屋丹治呉服店」さん。当時は「帯と模様の伊勢丹」と呼ばれ明治時代からおしゃれな御婦人方に人気を博していたそうです。 \n\n\n\n \n\n\n\n三四十会ならではの様々な着物や帯など春らしい組み合わせをぜひ楽しみにいらしてください。 \n\n\n\nとき：3月16日（水）〜21日（月祝） \n\n\n\nところ：本館７階　伊勢丹呉服/特選着物 \n\n\n\n18日（金）〜20日（日）洛風林　堀江麗子在店予定。 \n\n\n\n※展示会の詳細は伊勢丹新宿店特選呉服様にお問い合わせください。 \n\n\n\n \n\n\n\nwebsite：https://www.mistore.jp/store/shinjuku/shops/kimono/kimono_1/shopnews_list/shopnews0185.htmlより）
URL:https://rakufulin.com/event/%e4%bc%8a%e5%8b%a2%e4%b8%b9%e6%96%b0%e5%ae%bf%e5%ba%97%e3%81%ab%e3%81%a6%e3%80%8c%e6%98%a5%e3%81%ae%e4%b8%89%e5%9b%9b%e5%8d%81%e4%bc%9a%e3%80%8d
LOCATION:伊勢丹新宿店
END:VEVENT
BEGIN:VEVENT
DTSTART;TZID=Asia/Tokyo:20220218T110000
DTEND;TZID=Asia/Tokyo:20220223T190000
DTSTAMP:20260421T093619
CREATED:20220207T045401Z
LAST-MODIFIED:20220207T051320Z
UID:1824-1645182000-1645642800@rakufulin.com
SUMMARY:月日荘　にて「工芸帯地 洛風林と帆布バッグSUGA 菅岡久美子」展
DESCRIPTION:月日荘　企画展「工芸帯地 洛風林と帆布バッグSUGA 菅岡久美子」 \n\n\n\nとき：2022年2月18日（金）〜23日（水・祝）11：00〜19：00（ご予約の方優先となります。） \n\n\n\n18日（金）・19日（土）堀江麗子在廊予定です。 \n\n\n\nところ・お問い合わせ：月日荘 \n\n\n\n〒467-0004　名古屋市瑞穂区松月町4-9-2 　TEL. 052-841-4418 \n\n\n\nHP：http://www.tukihiso.com/index.html \n\n\n\ninstagram:https://www.instagram.com/kimono_tukihiso/
URL:https://rakufulin.com/event/%e6%9c%88%e6%97%a5%e8%8d%98%e3%81%ab%e3%81%a6%e3%80%8c%e5%b7%a5%e8%8a%b8%e5%b8%af%e5%9c%b0-%e6%b4%9b%e9%a2%a8%e6%9e%97%e3%81%a8%e5%b8%86%e5%b8%83%e3%83%90%e3%83%83%e3%82%b0suga-%e8%8f%85%e5%b2%a1
LOCATION:月日荘\, 〒460-0004 愛知県名古屋市瑞穂区松月町４丁目９−２
END:VEVENT
BEGIN:VEVENT
DTSTART;TZID=Asia/Tokyo:20211112T100000
DTEND;TZID=Asia/Tokyo:20211115T180000
DTSTAMP:20260421T093619
CREATED:20211109T054048Z
LAST-MODIFIED:20211109T062215Z
UID:1829-1636711200-1636999200@rakufulin.com
SUMMARY:ぶどうのたね　きもの田中屋　にて「勝山健史　織物展」
DESCRIPTION:きもの田中屋　勝山健史　織物展　 \n\n\n\nとき：2021年11月12日（金）～15日（月）１０：００~１９：００※最終日18時まで（勝山健史在廊） \n\n\n\nところ：ぶどうのたね博多（博多リバレインモール１Ｆ）にて \n\n\n\nきもの田中屋様ご案内より　「毎年11月は勝山健史展です。今年で13年目を迎えます。『美しいものが作りたい』その想いでたどり着いたのが昔ながらの時間をかけたものづくりでした。分業による大量生産が始まる江戸時代以前の技術です。養蚕から製糸、織までを一貫して手掛ける仕事です。文化財の染織品の補修に必要な材料として提供され数多くの文化財修理に使用されてきました。その事で今年より文化庁より「国宝文化財等保存活用事業」の後援を頂く事になりました。勝山さんも会期中在店されます。どうぞご高覧くださいませ。　　　　　きもの田中屋」 \n\n\n\nぶどうのたね　きもの田中屋ＨＰhttps://www.budounotane.com/kimono_tanakaya/ \n\n\n\nきもの田中屋instagramhttps://www.instagram.com/kimonotanakaya/ \n\n\n\nきもの田中屋さんでの勝山健史展は今年で13回目を迎えます。 \n\n\n\n新作の帯をはじめ、今年文化庁から選定保存技術として認定を受けた長野での仕事(養蚕、製糸、製織の技法)を生かし現代の着物として制作された「有水羽絹」や、田中屋さん別注色の帯なども展示されます。会期中、勝山健史氏も在廊されますので、この機会にぜひご高覧ください。
URL:https://rakufulin.com/event/%e3%81%b6%e3%81%a9%e3%81%86%e3%81%ae%e3%81%9f%e3%81%ad%e3%80%80%e3%81%8d%e3%82%82%e3%81%ae%e7%94%b0%e4%b8%ad%e5%b1%8b%e3%80%80%e3%81%ab%e3%81%a6%e3%80%8c%e5%8b%9d%e5%b1%b1%e5%81%a5%e5%8f%b2%e3%80%80
LOCATION:ぶどうのたね博多\, 福岡市博多区下川端３－１\, 日本
END:VEVENT
BEGIN:VEVENT
DTSTART;TZID=Asia/Tokyo:20211022T110000
DTEND;TZID=Asia/Tokyo:20211028T180000
DTSTAMP:20260421T093619
CREATED:20211021T051614Z
LAST-MODIFIED:20211021T051614Z
UID:1878-1634900400-1635444000@rakufulin.com
SUMMARY:銀座越後屋にて「秋の洛風林展」
DESCRIPTION:とき:2021年10月22日㈮〜28日㈭ところ:銀座越後屋 \n\n\n\n1755年（宝暦５年）創業の銀座越後屋さんは、古典を中心に現代の街並みに合う銀座らしい華やかな装いをご提案されています。 \n\n\n\n「秋の洛風林展では、銀座越後屋好みの新作帯などが揃います。ぜひお出かけください。 \n\n\n\n銀座越後屋website:www.ginza-echigoya.co.jp        instagram:https://www.instagram.com/ginza_echigoya/
URL:https://rakufulin.com/event/%e9%8a%80%e5%ba%a7%e8%b6%8a%e5%be%8c%e5%b1%8b%e3%81%ab%e3%81%a6%e3%80%8c%e7%a7%8b%e3%81%ae%e6%b4%9b%e9%a2%a8%e6%9e%97%e5%b1%95%e3%80%8d
LOCATION:銀座越後屋\, 〒104-0061 東京都中央区銀座２−６−５銀座トレシャス1階
END:VEVENT
BEGIN:VEVENT
DTSTART;TZID=Asia/Tokyo:20211019T100000
DTEND;TZID=Asia/Tokyo:20211024T190000
DTSTAMP:20260421T093619
CREATED:20211011T023040Z
LAST-MODIFIED:20211014T074108Z
UID:1793-1634637600-1635102000@rakufulin.com
SUMMARY:染と織　真美弥　「秋の個展」
DESCRIPTION:「秋の個展」　　染と織　真美弥 \n\n\n\nと　き　　10月19日(火)～24日(日)　10時～19時ところ　　染めと織　真美弥 \n\n\n\n以下、主催店より \n\n\n\n\n\n\n\n「近くを流れる玉串川の川沿いを歩いていますと、彼岸花が咲いているのが、目にとまりました。ようやく秋らしい、心地よい季節になりましたね。10月19日(火)より、秋の個展を開催させて頂きます。 \n\n\n\n＊工芸帯地 洛風林展　ー新作帯とお誂えの会ー　 \n\n\n\n名古屋帯・塩繭着尺・しじら織りコート　　お好みのお色で、お誂えさせて頂きます。 \n\n\n\n１０月２２日（金）・２３日（土）洛風林社長　堀江麗子氏　来店予定です。」 \n\n\n\n主催店ブログ「真美弥の引き出し」よりhttps://kmamiya.exblog.jp/28873279/ \n\n\n\nInstagramhttps://www.instagram.com/mamiya_note/
URL:https://rakufulin.com/event/%e6%9f%93%e3%81%a8%e7%b9%94%e3%80%80%e7%9c%9f%e7%be%8e%e5%bc%a5%e3%80%80%e3%80%8c%e7%a7%8b%e3%81%ae%e5%80%8b%e5%b1%95%e3%80%8d
LOCATION:染と織　真美弥\, 〒581-0013 　 大阪府八尾市山本町南 　 　　　　　　 1-11-16\, 日本
END:VEVENT
BEGIN:VEVENT
DTSTART;TZID=Asia/Tokyo:20211016T000000
DTEND;TZID=Asia/Tokyo:20211018T235959
DTSTAMP:20260421T093619
CREATED:20211011T005511Z
LAST-MODIFIED:20211011T012219Z
UID:1099-1634342400-1634601599@rakufulin.com
SUMMARY:呉服の粋ふくひろ　 「山崎陽子さんときものがたりの会」（予約制）
DESCRIPTION:洛風林資料館にて　\n\n\n\n \n\n\n\n「山崎陽子さんときものがたりの会」　　　 \n\n\n\n以下、主催店からのご案内より \n\n\n\n「着物を着る方にとって必携のバイブル、『きものが着たくなったなら』に続き、今年『きものを着たらどこへでも』を出版された山崎陽子さん。                                           私も何年か前よりインスタグラムで素敵な着こなしやセレクトに魅せられ、飾らない言葉での日々の丁寧な着物暮らしの投稿に憧れておりました。山崎さんが北九州小倉のご出身とお聞きしてからいつかご来店叶えばと思っていたところ、素敵なご縁をいただきお忙しい中、来ていただけることとなりました。 気軽にいろいろときもののお話をして下さるそうです。山崎さんはきもの上級者でいられる印象ですが、本の中でも紹介されているように、着物を着られるようになって七年ほどと伺っています。                                 “私らしく装いたい” と気負わず、長く付き合っていけるものを上手く選んでおられて、その柔らかなお人柄があらわれた装いは是非お手本にしたいところです。着こなしのエッセンスなどお伺いしたいこと、どうぞ実際にお会いになってお話しください。                今回は山崎さんがお召しになっている機屋さんや作家さんの作品を揃えて、ご紹介します。」 \n\n\n\n洛風林の八寸なども含め、お話会に関連した楽しい作品を展示されます。 \n\n\n\nとき：２０２１年１０月１６日（土）〜１８日（月）  \n\n\n\nところ：呉服の粋ふくひろ　店内二階にて \n\n\n\n※予約制の為、主催店へお問い合わせ下さい。 \n\n\n\nお問い合わせ先：093-521-0321 \n\n\n\n　（呉服の粋 ふくひろ websitehttp://www.fukuhiro-kimono.com/info/index.cgi?mode=list&pline=0  Instagramhttps://www.instagram.com/fukuhiro_kimono/） \n\n\n\n山崎さんが
URL:https://rakufulin.com/event/%e5%91%89%e6%9c%8d%e3%81%ae%e7%b2%8b%e3%81%b5%e3%81%8f%e3%81%b2%e3%82%8d%e3%80%80-%e3%80%8c%e5%b1%b1%e5%b4%8e%e9%99%bd%e5%ad%90%e3%81%95%e3%82%93%e3%81%a8%e3%81%8d%e3%82%82%e3%81%ae%e3%81%8c%e3%81%9f
LOCATION:呉服の粋ふくひろ\, 〒802-0006 福岡県北九州市小倉北区魚町北九州市小倉北区魚町二丁目３の５\, 日本
END:VEVENT
BEGIN:VEVENT
DTSTART;TZID=Asia/Tokyo:20211013T100000
DTEND;TZID=Asia/Tokyo:20211017T190000
DTSTAMP:20260421T093619
CREATED:20211011T013828Z
LAST-MODIFIED:20211011T013828Z
UID:1804-1634119200-1634497200@rakufulin.com
SUMMARY:伊勢丹新宿店にて「豊聚祭　秋の三四十会」　
DESCRIPTION:「三四十会（みよそかい）は、昭和８年（1933年）から伊勢丹新宿店で開催の呉服の名物催事です。 \n\n\n\n当時30代・40代の方に、きもののおしゃれを楽しんでいただきたいという思いで、個性的な着物や帯を集めて、開催したのが始まりと言われています。時代が変わった今でも、開始当時のコンセプトはそのままに、「正統派でありながら、他人とは違った装いをしたい」という思いに応えるべく、京都の名店６社の商品を取り揃えております。」（伊勢丹呉服/特選きもの　websitehttps://www.mistore.jp/store/shinjuku/shops/kimono/kimono_1/shopnews_list/shopnews0153.htmlより） \n\n\n\nとき：１０月１３日（水）〜１７日（日）最終日午後７時終了 \n\n\n\n \n\n\n\nところ：伊勢丹新宿店本館７階　伊勢丹呉服/特選きもの　 \n\n\n\n洛風林の作品も出展致します。 \n\n\n\n伊勢丹呉服/特選きものwebsitehttps://www.mistore.jp/store/shinjuku/shops/kimono/kimono_1/shopnews_list/shopnews0153.html \n\n\n\nInstagramhttps://www.instagram.com/isetangofuku/
URL:https://rakufulin.com/event/%e4%bc%8a%e5%8b%a2%e4%b8%b9%e6%96%b0%e5%ae%bf%e5%ba%97%e3%81%ab%e3%81%a6%e3%80%8c%e8%b1%8a%e8%81%9a%e7%a5%ad%e3%80%80%e7%a7%8b%e3%81%ae%e4%b8%89%e5%9b%9b%e5%8d%81%e4%bc%9a%e3%80%8d%e3%80%80
LOCATION:三越伊勢丹　新宿店\, 〒160-0022 東京都新宿区新宿3-14-1\, 日本
END:VEVENT
BEGIN:VEVENT
DTSTART;TZID=Asia/Tokyo:20211013T000000
DTEND;TZID=Asia/Tokyo:20211016T183000
DTSTAMP:20260421T093619
CREATED:20211008T010141Z
LAST-MODIFIED:20211008T071526Z
UID:1799-1634083200-1634409000@rakufulin.com
SUMMARY:「勝山健史　織物展」　青山 八木　にて
DESCRIPTION:勝山健史　織物展10月13日(水)〜10月16日(土)12時〜18時半 \n\n\n\n「今回のテーマは古典。外国の文様を元にしたものや現代的な雰囲気のものを端正に仕上げるのが得意な勝山さんですが古典柄には古典らしい重厚な表現に挑戦されています。現代の塩蔵繭で挑む勝山さんの古典柄をご覧下さい。」   （青山八木Instagram                        https://www.instagram.com/aoyama_yagi/ より） \n\n\n\n勝山健史さんが個人の作品を発表した当初より続けて下さっている青山八木さんでの個展が来週10月13日(水)から始まります。今年5月、国立京都国際会館で発表した「美の元（素）」展での新作や八木さんの別注品など展示されます。 \n\n\n\n※詳細は青山八木様にお問合せください。
URL:https://rakufulin.com/event/%e3%80%8c%e5%8b%9d%e5%b1%b1%e5%81%a5%e5%8f%b2%e3%80%80%e7%b9%94%e7%89%a9%e5%b1%95%e3%80%8d%e3%80%80%e9%9d%92%e5%b1%b1-%e5%85%ab%e6%9c%a8%e3%80%80%e3%81%ab%e3%81%a6
LOCATION:青山　八木\, 1070062 南青山1-4-2 八並ビル1階\, 日本
ORGANIZER;CN="%E9%9D%92%E5%B1%B1%E3%80%80%E5%85%AB%E6%9C%A8":MAILTO:aoyamayg@titan.ocn.ne.jp
END:VEVENT
BEGIN:VEVENT
DTSTART;TZID=Asia/Tokyo:20210911T103000
DTEND;TZID=Asia/Tokyo:20210916T180000
DTSTAMP:20260421T093619
CREATED:20210823T023318Z
LAST-MODIFIED:20210823T025548Z
UID:1621-1631356200-1631815200@rakufulin.com
SUMMARY:趣味のきもの　えり新「洛風林の世界」
DESCRIPTION:展示会詳細(呉服えり新ＨＰよりhttps://www.erishin.co.jp/event/rakufulin2021） \n\n\n\n2021.9.11(sat)～9.16(thu) 　 \n\n\n\n10:30～18:00（以降はご予約にて） \n\n\n\n民藝の想いを継ぐ洛風林の作品は、古今東西の優れた意匠に時代の旬の色を加え、私達を魅了します。 \n\n\n\n白洲正子も愛したという洛風林、ご安心してご覧いただけるよう感染対策を万全にし、皆様のご来場を心よりお待ち申し上げます。 \n\n\n\nこんな時だからこそ、心に栄養や楽しみを注ぎましょう。 \n\n\n\n「洛風林」堀江氏在店予定です。（在店日時はウェブにてご確認下さい） \n\n\n\n■出品作品： 洛風林（袋帯、名古屋帯、着尺）・えり新作品（織物や小紋を中心に） \n\n\n\n※「洛風林の世界」展開催を記念し、洛風林の帯は、会期末まで「芯＆仕立代サービス」で承ります。 \n\n\n\n※当初「神戸トアギャラリー」での開催予定でしたが、緊急事態宣言発令等感染の状況を鑑み、店舗開催に変更いたしました。　当店は姫路駅から徒歩約5分と至近距離です。お車の方は、契約駐車場をご案内させていただきます。 \n\n\n\n\n\n日時：2021年9月11日（土）~16日（木）　　　　 \n\n\n\n１０：３０～１８：００（以降はご予約にて） \n\n\n\n主催・会場：えり新店舗１・２Ｆ \n\n\n\nお問合せ：趣味のきもの　えり新 \n\n\n\n　　　tel.＆fax.079－288－6616 \n\n\n\n   　　　mail : info@erishin.co.jp
URL:https://rakufulin.com/event/%e8%b6%a3%e5%91%b3%e3%81%ae%e3%81%8d%e3%82%82%e3%81%ae%e3%80%80%e3%81%88%e3%82%8a%e6%96%b0%e3%80%8c%e6%b4%9b%e9%a2%a8%e6%9e%97%e3%81%ae%e4%b8%96%e7%95%8c%e3%80%8d
LOCATION:趣味のきもの　えり新\, 670-0923兵庫県姫路市呉服町45番地\, 日本
END:VEVENT
BEGIN:VEVENT
DTSTART;TZID=Asia/Tokyo:20210617T110000
DTEND;TZID=Asia/Tokyo:20210620T170000
DTSTAMP:20260421T093619
CREATED:20210607T081512Z
LAST-MODIFIED:20210607T083011Z
UID:1353-1623927600-1624208400@rakufulin.com
SUMMARY:「工芸帯地 洛風林×小島秀子 二人展」    創作着物と帯の専門店　マルトヤ
DESCRIPTION:「工芸帯地　洛風林×小島秀子 二人展」 \n\n\n\n日時：2021年６月17日（木）18日（金）19日（土）11：00〜18：00   \n\n\n\n　最終日20日（日）11：00〜17：00 \n\n\n\n場所：ギャラリー小さい芽　（西宮千歳町６−２０） \n\n\n\n主催・お問い合わせ：創作着物と帯の専門店　マルトヤ
URL:https://rakufulin.com/event/%e3%80%8c%e5%b7%a5%e8%8a%b8%e5%b8%af%e5%9c%b0-%e6%b4%9b%e9%a2%a8%e6%9e%97%e5%b1%95x%e5%b0%8f%e5%b3%b6%e7%a7%80%e5%ad%90-%e4%ba%8c%e4%ba%ba%e5%b1%95%e3%80%8d-%e3%80%80%e3%80%80-%e5%89%b5
LOCATION:ギャラリー小さい芽\, 兵庫県西宮市千歳町６−２０\, 日本
END:VEVENT
BEGIN:VEVENT
DTSTART;TZID=Asia/Tokyo:20210528T100000
DTEND;TZID=Asia/Tokyo:20210530T160000
DTSTAMP:20260421T093619
CREATED:20210506T014715Z
LAST-MODIFIED:20210604T053221Z
UID:1246-1622196000-1622390400@rakufulin.com
SUMMARY:勝山健史織物展「美の元（素）」
DESCRIPTION:第12回　勝山健史織物展 \n\n\n\n「美の元（素）」　 \n\n\n\nごあんない \n\n\n\n拝啓　新緑の候、皆さまお健やかにお過ごしでいらっしゃいますか。お伺い申し上げます。今年、十二回目を迎えます勝山健史織物展は「美の元（素）」というテーマに桃山時代の小袖や唐時代の伝来裂など勝山氏が以前より憧れていた東洋の美しい絹織物を手本に制作に挑まれました。またこの度、長年作品作りと共に取り組まれてきた修理用絹布製作が「国宝重要文化財等保存活用事業」の「保存修理用絹布製作事業」として文化庁から指定を受けられることになりました。修理用の布を作られるとき、先ず修理する国宝や重文の裂を調査研究することから始められますが、文化財修理を手掛ける松鶴堂の城山氏はこの絹布を使う最も大切な理由に「ただただ美しいから。」と仰ったのが印象的でした。いにしえの美しい絹織物が未来に残るため、現代に生きる人々が美しいと感銘を受ける織物づくりを探求する勝山氏の仕事はあらためて素晴らしいと感服するとともに、今後新たな担い手が繋いでくれることを願わずにはいられません。技術や知識だけではない本質の美しさ「美の元（素）」を皆様にもご高覧いただけましたら幸いです。　　　　　　　　　　　　　　　　　　　 \n\n\n\n令和３年５月吉日　　　　　　　　 \n\n\n\n　　　　　　　　　　　　　　　敬具 \n\n\n\n　　　　　　　　　　　　　　　　　　　　　工芸帯地洛風林　堀江麗子 \n\n\n\n\n\n\n\n\n\n　　 \n\n\n\n美の元（素） \n\n\n\n昨年来世情が安定しない中、私達にも多かれ少なかれ影響が出ました。職人の減少です。消えていくのは解っていたのですが、無くなって初めて実感する有り難さです。足りなくなった分、自分でも機に上るのですが中々全てが思うようにも行かず。美しく思うものを作り出すにもやはり、元（素）が違うように見えてなりません。778年頃に製織された「紅地花鳥文錦」や安土桃山時代に製織された「片身替段牡丹文様綾小袖」など、これみよがしでは無く品と迫力のある本当に美しいものを手本に作っております。オリジナルには遠くて及ばないですが、元（素）を見つめ直し今出来得ることで再構築しております。後継者の育成を急務として仕事に向かいますが、やはり作り出すものが魅力に溢れ、織ってみたいと思わせるようなものを作り続けなければ後継者も育たないと肝に銘じ、美しさの元（素）を穿き違える事なく精進いたします。宜しくお願い申し上げます。 \n\n\n\n　　　　　　　　　　　　　　　　　　　　　　　　　　　　勝山　健史 \n\n\n\n\n\n日時：5月28日（金）10:00〜16:30 \n\n\n\n　　　　  29日（土）10:00～16:30  \n\n\n\n　　　　  30日（日）10:00〜16:00 \n\n\n\n場所：京都国際会館本館５F  \n\n\n\n　　　Room５５８・５５９ \n\n\n\n主催：工芸帯地　洛風林 \n\n\n\nお問い合わせ：工芸帯地　洛風林　tel.075-231-6536
URL:https://rakufulin.com/event/%e5%8b%9d%e5%b1%b1%e5%81%a5%e5%8f%b2%e7%b9%94%e7%89%a9%e5%b1%95%e3%80%80%e3%80%80%e3%80%80%e3%80%80%e3%80%80%e3%80%80%e3%80%8c%e7%be%8e%e3%81%ae%e5%85%83%ef%bc%88%e7%b4%a0%ef%bc%89%e3%80%8d
LOCATION:京都国際会館　\, 京都府京都市左京区岩倉宝ヶ池\, ６０６−０００１
ATTACH;FMTTYPE=image/png:https://rakufulin.com/wp-content/uploads/2021/05/image.png
END:VEVENT
BEGIN:VEVENT
DTSTART;TZID=Asia/Tokyo:20210415T000000
DTEND;TZID=Asia/Tokyo:20210424T235959
DTSTAMP:20260421T093619
CREATED:20210324T062926Z
LAST-MODIFIED:20210405T073414Z
UID:1141-1618444800-1619308799@rakufulin.com
SUMMARY:工芸帯地 洛風林展　　きもの おがわ屋
DESCRIPTION:
URL:https://rakufulin.com/event/%e6%b4%9b%e9%a2%a8%e6%9e%97%e5%b1%95%e3%80%80%e3%80%80%e3%81%8d%e3%82%82%e3%81%ae%e3%80%80%e3%81%8a%e3%81%8c%e3%82%8f%e5%b1%8b
LOCATION:きもの　おがわ屋\, 埼玉県さいたま市中央区新中里3－4－12\, 日本
END:VEVENT
BEGIN:VEVENT
DTSTART;VALUE=DATE:20210312
DTEND;VALUE=DATE:20210316
DTSTAMP:20260421T093619
CREATED:20210305T063756Z
LAST-MODIFIED:20210309T035902Z
UID:1029-1615507200-1615852799@rakufulin.com
SUMMARY:洛風林展　ぶどうのたねー博多リバレイン
DESCRIPTION:
URL:https://rakufulin.com/event/%e6%b4%9b%e9%a2%a8%e6%9e%97%e5%b1%95%e3%80%80%ef%bc%a0%e3%81%b6%e3%81%a9%e3%81%86%e3%81%ae%e3%81%9f%e3%81%ad%e3%83%bc%e5%8d%9a%e5%a4%9a%e3%83%aa%e3%83%96%e3%83%ac%e3%82%a4%e3%83%b3
LOCATION:ぶどうのたねー博多リバレイン\, 福岡市博多区下川端町3番1号\, 812-0027\, 日本
END:VEVENT
END:VCALENDAR