BEGIN:VCALENDAR
VERSION:2.0
PRODID:-//工芸帯地　洛風林 - ECPv6.1.3//NONSGML v1.0//EN
CALSCALE:GREGORIAN
METHOD:PUBLISH
X-ORIGINAL-URL:https://rakufulin.com
X-WR-CALDESC:工芸帯地　洛風林 のイベント
REFRESH-INTERVAL;VALUE=DURATION:PT1H
X-Robots-Tag:noindex
X-PUBLISHED-TTL:PT1H
BEGIN:VTIMEZONE
TZID:Asia/Tokyo
BEGIN:STANDARD
TZOFFSETFROM:+0900
TZOFFSETTO:+0900
TZNAME:JST
DTSTART:20250101T000000
END:STANDARD
END:VTIMEZONE
BEGIN:VEVENT
DTSTART;TZID=Asia/Tokyo:20251022T100000
DTEND;TZID=Asia/Tokyo:20251104T190000
DTSTAMP:20260421T140007
CREATED:20251009T072907Z
LAST-MODIFIED:20251022T090022Z
UID:11165-1761127200-1762282800@rakufulin.com
SUMMARY:日本橋三越本店呉服特選サロンにて「スタイリストセレクション　洛風林の帯と道明の帯締め」
DESCRIPTION:©️日本橋三越本店\n\n\n\n©️日本橋三越本店\n\n\n\n©️日本橋三越本店\n\n\n\n日本橋三越本店　呉服特選サロン　スタイリストセレクション \n\n\n\n「洛風林の帯と道明の帯締め」 \n\n\n\nとき：10月22日(水)~11月4日(火) \n\n\n\nところ：日本橋三越本店 本館４階                                                                                                                           呉服特選サロン　 (instagram) \n\n\n\n　　　10:00〜19:00 \n\n\n\n※洛風林のご紹介は10月28日(火)まで \n\n\n\n \n\n\n\n お問い合わせ：日本橋三越本店 本館４階　 呉服特選サロン　Tel.03-3274-8288
URL:https://rakufulin.com/event/%e6%97%a5%e6%9c%ac%e6%a9%8b%e4%b8%89%e8%b6%8a%e6%9c%ac%e5%ba%97%e3%81%ab%e3%81%a6%e3%80%8c%e3%82%b9%e3%82%bf%e3%82%a4%e3%83%aa%e3%82%b9%e3%83%88%e3%82%bb%e3%83%ac%e3%82%af%e3%82%b7%e3%83%a7%e3%83%b3
LOCATION:日本橋三越本店\, 〒103-8001 東京都中央区日本橋室町1-4-1\, 日本
END:VEVENT
BEGIN:VEVENT
DTSTART;TZID=Asia/Tokyo:20251112T120000
DTEND;TZID=Asia/Tokyo:20251115T183000
DTSTAMP:20260421T140007
CREATED:20251031T082024Z
LAST-MODIFIED:20251031T082950Z
UID:11372-1762948800-1763231400@rakufulin.com
SUMMARY:青山 八木 にて「勝山健史 有水羽絹展」
DESCRIPTION:勝山 健史　有水羽絹展 \n\n\n\nとき：2025年11月12日(水)〜15日(土) \n\n\n\n　　　12：00〜18：30 \n\n\n\nところ・お問い合わせ：青山　八木 \n\n\n\n〒107-0062 南青山1-4-2 八並ビル1階 \n\n\n\nTel.０３-３４０１-２３７４ \n\n\n\n「勝山さんは2002年より長野県飯島町に桑畑、養蚕場を構え、以来その場で養蚕、塩蔵を行っています。その糸は京都の工房で帯や着尺に織られています。それとは別に、初期の頃より僅かながら長野の工房で織られている着尺があります。それが有水羽絹（うすはぎぬ）です。塩蔵の糸を植物染料で染め、専用の機で織った着尺です。絹糸のスペシャリスト、志村明氏の知識、経験、技術が詰まった特別な着尺です。その有水羽絹を2年かけて揃えました。ご高覧のほどどうぞ宜しくお願い致します。」（店主 ご案内より）
URL:https://rakufulin.com/event/%e9%9d%92%e5%b1%b1-%e5%85%ab%e6%9c%a8-%e3%81%ab%e3%81%a6%e3%80%8c%e5%8b%9d%e5%b1%b1%e5%81%a5%e5%8f%b2%e3%80%80%e6%9c%89%e6%b0%b4%e7%be%bd%e7%b5%b9%e5%b1%95%e3%80%8d
LOCATION:青山　八木\, 1070062 南青山1-4-2 八並ビル1階\, 日本
ORGANIZER;CN="%E9%9D%92%E5%B1%B1%E3%80%80%E5%85%AB%E6%9C%A8":MAILTO:aoyamayg@titan.ocn.ne.jp
END:VEVENT
BEGIN:VEVENT
DTSTART;TZID=Asia/Tokyo:20251128T120000
DTEND;TZID=Asia/Tokyo:20251130T160000
DTSTAMP:20260421T140007
CREATED:20251014T070603Z
LAST-MODIFIED:20251022T090643Z
UID:11210-1764331200-1764518400@rakufulin.com
SUMMARY:勝山健史織物展「慣習移易」
DESCRIPTION:勝山健史織物展「慣習移易」 \n\n\n\n展覧会詳細 \n\n\n\n日時：２０２５年１１月 \n\n\n\n28日（金）12：00〜18：00 \n\n\n\n29日（土）11：00〜18：00　 \n\n\n\n30日（日）11：00〜16：00　 \n\n\n\n＊11月28・29日は15：00から勝山健史氏による作品解説、ギャラリートークを予定しております。 \n\n\n\n会場：国立京都国際会館　本館５階　Room５５８・５５９ \n\n\n\n　京都市左京区岩倉大鷺町４２２ \n\n\n\n主催・お問合せ：工芸帯地　洛風林 \n\n\n\nTel.075-231-6536 又は洛風林websiteのお問い合わせフォームをご利用ください。（お問い合わせフォームは会期３日前までにご連絡お願い致します。） \n\n\n\n＊＊＊＊＊＊＊＊＊ \n\n\n\n作者ご挨拶 \n\n\n\n 「慣習移易」 \n\n\n\n昨年15周年を無事に終える事ができました。これも一重に皆様のおかげと感謝しております。  \n\n\n\n15年の区切を終え、一から新しい気持ちで迎える16年目です。振り返ってみるとどこかで西陣の習慣、俗説に影響され、新たに自分で考え組み立てる事が疎かになっていたように思います。 \n\n\n\n 本年は自由に思いのまま心にモヤモヤしたものを残さず、来年に続いていける様なものづくりを心がけています。  \n\n\n\nご高覧頂き、少しでもその変化を感じ取っていただけたら幸いです。 \n\n\n\n \n\n\n\n  勝山　健史 \n\n\n\n＊＊＊＊＊＊＊＊＊ \n\n\n\n主催者ご挨拶  \n\n\n\n第１６回　勝山健史織物展「慣習移易」　 \n\n\n\n　お陰様で昨年は十五周年の記念展を東京と京都にて盛会裡に納められ、日頃より応援くださる皆さまと充実した節目の年を過ごせましたことを改めて感謝申し上げます。    \n\n\n\n　今年、勝山氏が気持ち新たに取り組んだ十六回目のテーマ「慣習移易」。辞書に無いこの四字熟語は勝山氏が絹織物制作に向き合うとき「近年の西陣や呉服業界において当たり前に続いている慣習や常識、絹織物に対する解釈ははたして全てが正しいのだろうか。絹織物をより良くするにはどのように工夫したら良いのか。」と自身の中で再構築されるプロセスを「移風易俗（習慣やしきたりをよく変える）」という言葉になぞらえた造語で表現されました。 \n\n\n\n　日本に古くから伝わる絹織物の本質的な美しさを追い求め、その美しさを現代に伝えようとする勝山健史氏の真摯なものづくりはますます研ぎ澄まされていきます。 今年の新作展は唐織など新たな分野にも挑戦されました。ご高覧いただけましたら幸いです。 　 \n\n\n\n　　　　　　　　　　　　　　　　 \n\n\n\n　令和７年10月吉日　　 \n\n\n\n　　　　　　                                                                 　                                 工芸帯地　洛風林　堀江麗子 \n\n\n\n　
URL:https://rakufulin.com/event/%e5%8b%9d%e5%b1%b1%e5%81%a5%e5%8f%b2%e7%b9%94%e7%89%a9%e5%b1%95%e3%80%8c%e6%85%a3%e7%bf%92%e7%a7%bb%e6%98%93%e3%80%8d-2
LOCATION:国立京都国際会館\, 京都市左京区岩倉大鷺町４２２
END:VEVENT
BEGIN:VEVENT
DTSTART;TZID=Asia/Tokyo:20260121T100000
DTEND;TZID=Asia/Tokyo:20260125T180000
DTSTAMP:20260421T140007
CREATED:20260116T033935Z
LAST-MODIFIED:20260116T034821Z
UID:11909-1768989600-1769364000@rakufulin.com
SUMMARY:や和らぎ たかす　おひろめ展「勝山健史の帯とたかす好みきもの」
DESCRIPTION:や和らぎ たかす　おひろめ展~勝山健史の帯とたかす好みきもの~ \n\n\n\n「天馬の如く　 \n\n\n\n　今年は勝山氏の帯とたかすの着物の会を \n\n\n\n　催します。 \n\n\n\n　爽やかな風をお届けできれば幸いです。 \n\n\n\n　是非お遊び下さい。　　　　　 \n\n\n\n　蓮井 将宏　　店主」 \n\n\n\n日時：1月21日（水）〜25日（日） \n\n\n\n　　　10：00〜18：00 \n\n\n\n場所・お問い合わせ：や和らぎ たかす 〒760-0043 香川県高松市今新町1-4 高須ビル
URL:https://rakufulin.com/event/%e3%82%84%e5%92%8c%e3%82%89%e3%81%8e-%e3%81%9f%e3%81%8b%e3%81%99%e3%80%80%e3%81%8a%e3%81%b2%e3%82%8d%e3%82%81%e5%b1%95%e3%80%8c%e5%8b%9d%e5%b1%b1%e5%81%a5%e5%8f%b2%e3%81%ae%e5%b8%af%e3%81%a8%e3%81%9f
ORGANIZER;CN="%E3%82%84%E5%92%8C%E3%82%89%E3%81%8E%20%E3%81%9F%E3%81%8B%E3%81%99":MAILTO:yawaragi@takasu.cc
END:VEVENT
BEGIN:VEVENT
DTSTART;TZID=Asia/Tokyo:20260311T100000
DTEND;TZID=Asia/Tokyo:20260315T180000
DTSTAMP:20260421T140007
CREATED:20260302T031111Z
LAST-MODIFIED:20260302T034614Z
UID:12143-1773223200-1773597600@rakufulin.com
SUMMARY:伊勢丹新宿店　「春の三四十会」
DESCRIPTION:染織逸品　春の三四十会 \n\n\n\n「伊勢丹呉服恒例の名物催事『三四十会（みよそかい）』。 \n\n\n\n1933年の秋から始まり、当時は30代～40代の、きもののお洒落を楽しみたい方へ向けて独創的なきものや帯　をご提案してきました。 \n\n\n\n今もなお、コンセプトは変わらず”正統派でありながら、人とは違ったお洒落を楽しみたい”という思いに応えるべく、京都の染織の名店６社が出展いたします。 \n\n\n\n礼装からお洒落ものまで、各ブランドの個性が出たお品物を幅広くご紹介いたします。」（主催者ご案内より） \n\n\n\n\n\nとき:2026年3月11日(水)〜15日(日) \n\n\n\n　　10:00〜20:00(※最終日は18:00まで) \n\n\n\nところ・お問い合わせ先:伊勢丹新宿店 本館7階 呉服/特選きもの \n\n\n\nwebsite:春の三四十会2026 \n\n\n\ninstagram:ISETAN KIMONO
URL:https://rakufulin.com/event/%e4%bc%8a%e5%8b%a2%e4%b8%b9%e6%96%b0%e5%ae%bf%e5%ba%97%e3%80%80%e3%80%8c%e6%98%a5%e3%81%ae%e4%b8%89%e5%9b%9b%e5%8d%81%e4%bc%9a%e3%80%8d-3
END:VEVENT
BEGIN:VEVENT
DTSTART;TZID=Asia/Tokyo:20260325T100000
DTEND;TZID=Asia/Tokyo:20260329T160000
DTSTAMP:20260421T140007
CREATED:20260302T041147Z
LAST-MODIFIED:20260305T095011Z
UID:12150-1774432800-1774800000@rakufulin.com
SUMMARY:月日荘「工芸帯地 洛風林の世界」展　東慶寺にて
DESCRIPTION:工芸帯地「洛風林」の世界　於 東慶寺 \n\n\n\n会期：3月25日（水）- 29日（日）時間：10:00 – 16:00　［最終日は宝物館のみ15:00まで］会場：北鎌倉 東慶寺　@tokeiji_temple　　・宝物館 – 展観のみ　　　工芸帯地洛風林展「葉桜や眠れる豹の美しき」　　・書院 – 展示販売会　　　洛風林の帯を中心に、着尺・小物など月日荘の品々 \n\n\n\n主催：月日荘　＠tukihiso　　　　 \n\n\n\n　　　　 \n\n\n\nごあいさつ \n\n\n\n「一昨年、月日荘さんのお誘いではじめて東慶寺さんを訪ねました。その折、紀子様のご案内でお参りさせていただいた水月観音さまの慈悲深くやさしい眼ざしは今でも心に残っております。　これまでに二回京都で洛風林の展覧会を開催いたしましたが第三回「葉桜や眠れる豹の美しき展」の開催間近コロナ禍で中止となり、その後機会を逃しておりました。この度、月日荘さんのご縁で東慶寺宝物館での洛風林展開催が叶いますことたいへん嬉しく思います。　宝物館では洛風林のものづくりの原点となります先先代から蒐集した様々な国の資料、参考裂や帯など非公開の品々を展示いたします。書院では月日荘さん好みの洛風林の帯を展示いただきます。　北鎌倉に山桜が咲くころ東慶寺さんへお参りがてら洛風林のものづくりの源泉に触れお楽しみいただだければ幸いです。」 \n\n\n\n　工芸帯地洛風林　堀江麗子　 \n\n\n\n\n\n\n\n「その独自の紋様や色づかいから、見るとすぐにそれとわかる洛風林さんの帯は、着物愛好者の憧れの存在であり、作品からは世界中の美しい物や文化、歴史や物語が垣間見られます。　この度は宝蔵での展示もご企画いただき、帯に潜む美しさの謎やワケを知る事のできるまたとない機会。　京都の伝統と革新を感じに是非お運びくださいませ。」 \n\n\n\n　東慶寺　井上紀子　@tokeiji_temple \n\n\n\n「東慶寺で四度目となりました、今展示会も宝物館と書院の二つの会場で開催させて戴きます。洛風林の帯は着物に触れ始めた頃からずっと憧れで、永遠に輝き続ける存在です。今回このような会を開催できますこと大変嬉しく思います。書院では、袋、九寸、八寸帯、またそれらに合わせる着尺、小物など様々なお品をご紹介致します。今年も皆さまのお越しを心よりお待ち申し上げます。」 \n\n\n\n　月日荘　＠tukihiso \n\n\n\n　　　　　　　　　　　　　　　　　　　　　　　　　　　　　　　　　　　　　　　　　　　　 \n\n\n\n書院にて \n\n\n\n・工芸帯地 洛風林（袋帯・九寸帯・八寸帯）・色無地・結城紬・長襦袢・帯揚／帯締／帯留　ほか \n\n\n\n\n\n\n\n\n\n\n\n \n\n\n\n \n\n\n\n\n\n\n\n九寸名古屋帯「眠れる豹」 \n\n\n\n洛風林初代堀江武の句集「葉桜」の中の一句 \n\n\n\n– 葉桜や　眠れる豹の　美しき – \n\n\n\n桜が花のころを終えて若葉が柔らかく揺れる心地よい季節、動物園の豹が木漏れ日の下で微睡む情景を詠んだ句よりイメージした帯。 \n\n\n\n\n\n\n\n句集「葉桜」 \n\n\n\n　　　　
URL:https://rakufulin.com/event/%e6%9d%b1%e6%85%b6%e5%af%ba-%e6%9c%88%e6%97%a5%e8%8d%98%e5%b1%95%e3%80%80%e3%80%8c%e7%9c%a0%e3%82%8c%e3%82%8b%e8%b1%b9%e3%80%8d%e5%b1%95
LOCATION:東慶寺\, 神奈川県鎌倉市山之内１３６７\, 日本
END:VEVENT
BEGIN:VEVENT
DTSTART;TZID=Asia/Tokyo:20260515T120000
DTEND;TZID=Asia/Tokyo:20260518T170000
DTSTAMP:20260421T140007
CREATED:20260331T012923Z
LAST-MODIFIED:20260414T230527Z
UID:12385-1778846400-1779123600@rakufulin.com
SUMMARY:勝山健史織物展「邂逅」
DESCRIPTION:勝山健史織物展「邂逅」 \n\n\n\n展覧会詳細 \n\n\n\n日時：２０２６年５月 \n\n\n\n15日（金）12：00〜19：00 \n\n\n\n16日（土）・17日（日）11：00〜19：00 \n\n\n\n18日（月）11：00〜17：00 \n\n\n\n会場：代官山ヒルサイドテラス　E棟ロビー \n\n\n\n　東京都渋谷区猿楽町２９−８ \n\n\n\n　Tel.03-3461-6902（会期中のみ） \n\n\n\n主催・お問合せ：工芸帯地　洛風林 \n\n\n\nTel.075-231-6536 又は洛風林websiteのお問い合わせフォームをご利用ください。（お問い合わせフォームは会期３日前までにご連絡お願い致します。） \n\n\n\n＊＊＊＊＊＊＊＊＊ \n\n\n\n作者ご挨拶 \n\n\n\n「邂逅」－偶然から、必然へ。－ \n\n\n\nおかげさまで今年、17回目となる新作を発表することができました。 \n\n\n\n長きにわたり支えてくださった皆様へ、心より感謝申し上げます。 \n\n\n\n今回の新作は、まさに“邂逅”。 \n\n\n\n思いがけない出会いから生まれた作品たちです。 \n\n\n\n17年という歳月の中で、技を重ね、経験を積み、理解しているつもりで歩んできました。しかしその一方で、知らず知らずのうちに慣れや常識に縛られていたのかもしれません。本来は練糸の単糸を緯に織り込むはずでした。 \n\n\n\nところが、思い違いから生糸の単糸で織り上がってきたのです。 \n\n\n\n常識では「生地にならない」とされる組み合わせ。 \n\n\n\nけれど目の前に現れたのは、確かに“織物”として成立し、 \n\n\n\nこれまでに見たことのない美しさを湛えた一反でした。 \n\n\n\n偶然が生んだ一枚。 \n\n\n\nしかしその美しさを前にした瞬間、それは偶然ではなく、必然へと変わりました。 \n\n\n\n予期せぬ出来事が、新たな可能性を拓く。 \n\n\n\nまるで織物の神様からの贈り物のような出会いでした。 \n\n\n\nぜひご高覧ください。 \n\n\n\n勝山 健史 \n\n\n\n＊＊＊＊＊＊＊＊＊ \n\n\n\n主催者ご挨拶 \n\n\n\n第十七回勝山健史織物展「邂逅」 \n\n\n\n２０２６年、十七回目を迎えました勝山健史織物展のテーマは「邂逅」。 \n\n\n\n長年真摯にものづくりに取り組まれていても「決して完璧なものはできない」と語る勝山健史氏。しかし予期せぬ出来事がきっかけで新たな可能性を拓くこともあるそうです。 \n\n\n\n偶然から生まれた唯一無二の織物。 \n\n\n\n今現在の勝山健史氏にしか生み出せない織物作品の新たな息吹を感じていただけましたら幸いです。 \n\n\n\n勝山健史織物展「邂逅」ぜひご高覧くださいませ。 \n\n\n\n工芸帯地洛風林　堀江麗子 \n\n\n\n令和8年4月吉日　　 \n\n\n\n　 \n\n\n\n工芸帯地　洛風林\n\n\n\n０７５２３１６５３６ \n\n\n\n代官山ヒルサイドテラス\n\n\n\n東京都渋谷区猿楽町２９－８+ Google Map03-3461-6902
URL:https://rakufulin.com/event/12385
END:VEVENT
END:VCALENDAR