BEGIN:VCALENDAR
VERSION:2.0
PRODID:-//工芸帯地　洛風林 - ECPv6.1.3//NONSGML v1.0//EN
CALSCALE:GREGORIAN
METHOD:PUBLISH
X-WR-CALNAME:工芸帯地　洛風林
X-ORIGINAL-URL:https://rakufulin.com
X-WR-CALDESC:工芸帯地　洛風林 のイベント
REFRESH-INTERVAL;VALUE=DURATION:PT1H
X-Robots-Tag:noindex
X-PUBLISHED-TTL:PT1H
BEGIN:VTIMEZONE
TZID:Asia/Tokyo
BEGIN:STANDARD
TZOFFSETFROM:+0900
TZOFFSETTO:+0900
TZNAME:JST
DTSTART:20210101T000000
END:STANDARD
END:VTIMEZONE
BEGIN:VEVENT
DTSTART;TZID=Asia/Tokyo:20210911T103000
DTEND;TZID=Asia/Tokyo:20210916T180000
DTSTAMP:20260426T114908
CREATED:20210823T023318Z
LAST-MODIFIED:20210823T025548Z
UID:1621-1631356200-1631815200@rakufulin.com
SUMMARY:趣味のきもの　えり新「洛風林の世界」
DESCRIPTION:展示会詳細(呉服えり新ＨＰよりhttps://www.erishin.co.jp/event/rakufulin2021） \n\n\n\n2021.9.11(sat)～9.16(thu) 　 \n\n\n\n10:30～18:00（以降はご予約にて） \n\n\n\n民藝の想いを継ぐ洛風林の作品は、古今東西の優れた意匠に時代の旬の色を加え、私達を魅了します。 \n\n\n\n白洲正子も愛したという洛風林、ご安心してご覧いただけるよう感染対策を万全にし、皆様のご来場を心よりお待ち申し上げます。 \n\n\n\nこんな時だからこそ、心に栄養や楽しみを注ぎましょう。 \n\n\n\n「洛風林」堀江氏在店予定です。（在店日時はウェブにてご確認下さい） \n\n\n\n■出品作品： 洛風林（袋帯、名古屋帯、着尺）・えり新作品（織物や小紋を中心に） \n\n\n\n※「洛風林の世界」展開催を記念し、洛風林の帯は、会期末まで「芯＆仕立代サービス」で承ります。 \n\n\n\n※当初「神戸トアギャラリー」での開催予定でしたが、緊急事態宣言発令等感染の状況を鑑み、店舗開催に変更いたしました。　当店は姫路駅から徒歩約5分と至近距離です。お車の方は、契約駐車場をご案内させていただきます。 \n\n\n\n\n\n日時：2021年9月11日（土）~16日（木）　　　　 \n\n\n\n１０：３０～１８：００（以降はご予約にて） \n\n\n\n主催・会場：えり新店舗１・２Ｆ \n\n\n\nお問合せ：趣味のきもの　えり新 \n\n\n\n　　　tel.＆fax.079－288－6616 \n\n\n\n   　　　mail : info@erishin.co.jp
URL:https://rakufulin.com/event/%e8%b6%a3%e5%91%b3%e3%81%ae%e3%81%8d%e3%82%82%e3%81%ae%e3%80%80%e3%81%88%e3%82%8a%e6%96%b0%e3%80%8c%e6%b4%9b%e9%a2%a8%e6%9e%97%e3%81%ae%e4%b8%96%e7%95%8c%e3%80%8d
LOCATION:趣味のきもの　えり新\, 670-0923兵庫県姫路市呉服町45番地\, 日本
END:VEVENT
END:VCALENDAR