BEGIN:VCALENDAR
VERSION:2.0
PRODID:-//工芸帯地　洛風林 - ECPv6.1.3//NONSGML v1.0//EN
CALSCALE:GREGORIAN
METHOD:PUBLISH
X-WR-CALNAME:工芸帯地　洛風林
X-ORIGINAL-URL:https://rakufulin.com
X-WR-CALDESC:工芸帯地　洛風林 のイベント
REFRESH-INTERVAL;VALUE=DURATION:PT1H
X-Robots-Tag:noindex
X-PUBLISHED-TTL:PT1H
BEGIN:VTIMEZONE
TZID:Asia/Tokyo
BEGIN:STANDARD
TZOFFSETFROM:+0900
TZOFFSETTO:+0900
TZNAME:JST
DTSTART:20230101T000000
END:STANDARD
END:VTIMEZONE
BEGIN:VEVENT
DTSTART;TZID=Asia/Tokyo:20231014T110000
DTEND;TZID=Asia/Tokyo:20231019T190000
DTSTAMP:20260424T213346
CREATED:20230925T064532Z
LAST-MODIFIED:20230927T073143Z
UID:5709-1697281200-1697742000@rakufulin.com
SUMMARY:趣味のきもの  えり新「勝山健史と洛風林　工藝と民藝の重なる処」
DESCRIPTION:「勝山健史と洛風林　工藝と民藝の重なる処」 \n\n\n\nとき：２０２３年１０月１４日（土）〜１９日（木） \n\n\n\n11：00〜19：00（※最終日は１４：００まで） \n\n\n\nところ：神戸トアギャラリー/TOR GALLERY１・２F \n\n\n\n兵庫県神戸市中央区北長狭通3−12−13 \n\n\n\nTEL 078-334-0531（会期中のみ） \n\n\n\n　•トアロード・JR三宮駅より北へ100m西側。 \n\n\n\n　•JR元町駅、阪神元町駅、阪急三宮駅西口より徒歩約4分。トアロードを少し北に上がる。 \n\n\n\n　（提携駐車場無し。周辺にコインパーキング多数有ります。） \n\n\n\n主催・お問合せ：趣味のきもの えり新　https://www.erishin.co.jp/katuyama-rakufulin \n\n\n\ntel.０７９−２８８−６６１６ \n\n\n\n主催者ごあいさつより \n\n\n\n「勝山氏ならではの塩蔵繭が生み出す素晴らしき作品の数々、着物を楽しむ私たちの心をぎゅっと掴んで離さない洛風林のお洒落な帯を、弊店好みの着物と共に、どうぞご覧くださいませ。 \n\n\n\n14日と15日両日は、１４：００ より勝山健史氏ギャラリートークを開催いたします。 \n\n\n\nどうぞお楽しみに。 \n\n\n\n皆様のご来場を一同心よりお待ち申し上げます。 \n\n\n\n◎勝山健史氏は、14日～16日在廊予定。 \n\n\n\n◎洛風林 堀江麗子氏は、14日～16日、愛子氏は、14日と18日在廊予定」 \n\n\n\n　
URL:https://rakufulin.com/event/%e5%91%89%e6%9c%8d%e3%81%88%e3%82%8a%e6%96%b0%e3%80%8c%e5%8b%9d%e5%b1%b1%e5%81%a5%e5%8f%b2%e3%81%a8%e6%b4%9b%e9%a2%a8%e6%9e%97%e5%b1%95%e3%80%80%e5%b7%a5%e8%8a%b8%e3%81%a8%e6%b0%91%e8%97%9d%e3%81%ae
LOCATION:神戸トアギャラリー\, 兵庫県神戸市中央区北長狭通３−１２−１３\, 兵庫県神戸市中央区北長狭通３−１２−１３\, 日本
END:VEVENT
END:VCALENDAR