BEGIN:VCALENDAR
VERSION:2.0
PRODID:-//工芸帯地　洛風林 - ECPv6.1.3//NONSGML v1.0//EN
CALSCALE:GREGORIAN
METHOD:PUBLISH
X-WR-CALNAME:工芸帯地　洛風林
X-ORIGINAL-URL:https://rakufulin.com
X-WR-CALDESC:工芸帯地　洛風林 のイベント
REFRESH-INTERVAL;VALUE=DURATION:PT1H
X-Robots-Tag:noindex
X-PUBLISHED-TTL:PT1H
BEGIN:VTIMEZONE
TZID:Asia/Tokyo
BEGIN:STANDARD
TZOFFSETFROM:+0900
TZOFFSETTO:+0900
TZNAME:JST
DTSTART:20230101T000000
END:STANDARD
END:VTIMEZONE
BEGIN:VEVENT
DTSTART;TZID=Asia/Tokyo:20231110T100000
DTEND;TZID=Asia/Tokyo:20231113T180000
DTSTAMP:20260424T202045
CREATED:20231101T084148Z
LAST-MODIFIED:20231101T084658Z
UID:5942-1699610400-1699898400@rakufulin.com
SUMMARY:きもの田中屋にて「勝山健史織物展」
DESCRIPTION:きもの田中屋　「勝山健史　織物展ー究極の糸を求めてー」 \n\n\n\nとき：2023年11月10日（金）～13日（月）１０：００~１８：３０※最終日18時まで（勝山健史在廊） \n\n\n\nところ：ぶどうのたね博多（博多リバレインモール１Ｆ）にて \n\n\n\nきもの田中屋様ご案内より　 \n\n\n\n「今回で１４回目の催しとなります。今回のテーマは『ハレとケ』一つの文様を素材を違えて織り上げることで合わせる着物や、着て行く場所が変ります。素材の持つ特徴や魅力を見くらべて、触りくらべて感じていただきたいというのを命題に作品を作り上げています。ぜひ、御覧くださいませ。期間中、勝山氏在店されます。　　　きもの田中屋」 \n\n\n\n \n\n\n\n自然豊かな福岡県うきはの地で、作り手の思いを大切に素晴らしい日本の染織品を次の世につなぐことを使命とし田中屋ご夫妻の審美眼で集められた上質な着物や帯を大切に扱っておられます。　勝山健史氏の活動にも当初より長年応援下さり、今回の博多展でも田中屋さん好みの力作がそろいます。ぜひご高覧ください。　洛風林 \n\n\n\n展示会の詳細は田中屋様にお問い合わせください。 \n\n\n\nぶどうのたね　きもの田中屋ＨＰhttps://www.budounotane.com/kimono_tanakaya/ \n\n\n\nきもの田中屋instagramhttps://www.instagram.com/kimonotanakaya/
URL:https://rakufulin.com/event/%e3%81%8d%e3%82%82%e3%81%ae%e7%94%b0%e4%b8%ad%e5%b1%8b%e3%81%ab%e3%81%a6%e3%80%8c%e5%8b%9d%e5%b1%b1%e5%81%a5%e5%8f%b2%e7%b9%94%e7%89%a9%e5%b1%95%e3%80%8d
LOCATION:博多リバレインモール
END:VEVENT
BEGIN:VEVENT
DTSTART;TZID=Asia/Tokyo:20231123T110000
DTEND;TZID=Asia/Tokyo:20231125T180000
DTSTAMP:20260424T202045
CREATED:20231117T012949Z
LAST-MODIFIED:20231117T020223Z
UID:6024-1700737200-1700935200@rakufulin.com
SUMMARY:きもの　おがわ屋「おがわ屋好みの勝山健史　織物展」
DESCRIPTION:「おがわ屋好みの勝山健史　織物展」 \n\n\n\n「理想とする美しい織物を追い求め糸から制作。塩漬けにした繭から生引きされる糸は、絹本来の美しい光沢と弾力が。織りあがった帯・着尺は気品と趣がある最上の風合いの逸品です。」きもの　おがわ屋様ご案内より \n\n\n\nとき：2023年11月23日(木/祝)〜２５日（日）11：00〜18：00 \n\n\n\n11月23日（木・祝）14:00〜15：00 勝山健史氏によるお話会も予定しております。 \n\n\n\n＊お話会は要予約制です。ご来店の際はおがわ屋様にお問い合わせください。 \n\n\n\nところ・お問い合わせ：きもの おがわ屋 \n\n\n\n　〒さいたま市中央区新中里３−４−１２ \n\n\n\n　tel. 048-832-8556 \n\n\n\n   HP:https://kimono-ogawaya.jp \n\n\n\n  instagram:https://www.instagram.com/kimonoogawaya/
URL:https://rakufulin.com/event/%e3%81%8d%e3%82%82%e3%81%ae%e3%80%80%e3%81%8a%e3%81%8c%e3%82%8f%e5%b1%8b%e3%80%8c%e3%81%8a%e3%81%8c%e3%82%8f%e5%b1%8b%e5%a5%bd%e3%81%bf%e3%81%ae%e5%8b%9d%e5%b1%b1%e5%81%a5%e5%8f%b2%e3%80%80%e7%b9%94
LOCATION:きもの　おがわ屋\, 埼玉県さいたま市中央区新中里3－4－12\, 日本
END:VEVENT
END:VCALENDAR