BEGIN:VCALENDAR
VERSION:2.0
PRODID:-//工芸帯地　洛風林 - ECPv6.1.3//NONSGML v1.0//EN
CALSCALE:GREGORIAN
METHOD:PUBLISH
X-ORIGINAL-URL:https://rakufulin.com
X-WR-CALDESC:工芸帯地　洛風林 のイベント
REFRESH-INTERVAL;VALUE=DURATION:PT1H
X-Robots-Tag:noindex
X-PUBLISHED-TTL:PT1H
BEGIN:VTIMEZONE
TZID:Asia/Tokyo
BEGIN:STANDARD
TZOFFSETFROM:+0900
TZOFFSETTO:+0900
TZNAME:JST
DTSTART:20240101T000000
END:STANDARD
END:VTIMEZONE
BEGIN:VEVENT
DTSTART;TZID=Asia/Tokyo:20240216T110000
DTEND;TZID=Asia/Tokyo:20240217T180000
DTSTAMP:20260422T163354
CREATED:20240119T064005Z
LAST-MODIFIED:20240119T070630Z
UID:6312-1708081200-1708192800@rakufulin.com
SUMMARY:「絹の領域」展
DESCRIPTION:ご挨拶 \n\n\n\n２０２１年７月１６日に勝山織物絹織製作研究所責任者　志村明が「選定保存技術保持者」に認定を受けました。 \n\n\n\n有形文化財等関係の保存技術として「在来絹製作」と認定頂きました。 \n\n\n\nこの度、認定を受けた技術を駆使して作った八領を展示いたします。 \n\n\n\n八領全てが袷に仕立てられています。 \n\n\n\n表地と裏地を製作し、それを仕立てた八領です。 \n\n\n\n表裏の組み合わせは八領全てが異なるので、個々の風合いも大きな違いがあります。 \n\n\n\nきもの という構造が表の裂一枚で成り立っているのではない事を改めて感じていただけたら幸甚です。 \n\n\n\n勝山織物絹織製作研究所　　勝山　健史 \n\n\n\n \n\n\n\n ✳︎✳︎✳︎ \n\n\n\n \n\n\n\n \n\n\n\n \n\n\n\nごあんない \n\n\n\n２０２１年冬、東京の宝生能楽堂で開催された「絹の領域」展がこの度京都の関西日仏学館にて開催されます。 \n\n\n\n勝山織物絹織製作研究所の所長、志村明氏が同年、国の「選定保存技術保持者」に認定され、長野での養蚕、製糸、製織などの一連の絹製作技術「在来絹製作」が国宝重文などの文化財修理において欠かせない貴重な技術であると「選定保存技術」の指定を受けられました。 \n\n\n\nこの度の「絹の領域」展ではその指定を受けた近代工業化以前の貴重な絹織製作技術で製作された表裏それぞれ異なる八領の袷の着物を展示されます。 \n\n\n\n現在、東京文化財研究所に収蔵されている貴重な八領の展示とともに勝山健史氏のものづくりの原点でもある長野での文化財修理に関わる仕事のことを知って頂く機会ですのでぜひご高覧ください。 \n\n\n\n工芸帯地　洛風林 \n\n\n\n \n\n\n\nとき：２０２４年２月１６日（金）・１７日（土） \n\n\n\n両日１１：００〜１８：００ \n\n\n\nところ：関西日仏学館 \n\n\n\n〒６０６−８３０１　京都市左京区吉田泉殿町８ \n\n\n\nお問い合わせ：工芸帯地　洛風林　Website お問い合わせ、又はtel.075-231-6536
URL:https://rakufulin.com/event/%e3%80%8c%e7%b5%b9%e3%81%ae%e9%a0%98%e5%9f%9f%e3%80%8d%e5%b1%95
LOCATION:関西日仏学館\, 京都市左京区吉田泉殿町８\, 日本
END:VEVENT
BEGIN:VEVENT
DTSTART;TZID=Asia/Tokyo:20240216T110000
DTEND;TZID=Asia/Tokyo:20240225T180000
DTSTAMP:20260422T163354
CREATED:20240209T072532Z
LAST-MODIFIED:20240209T073157Z
UID:6486-1708081200-1708884000@rakufulin.com
SUMMARY:銀座越後屋「春の衣裳展　工芸帯地洛風林展」
DESCRIPTION:銀座越後屋　春の衣裳展　特集「工芸帯地　洛風林展」 \n\n\n\nとき：２０２４年２月１６日（金）〜２５日（日）11：００〜18：００ \n\n\n\nところ：銀座越後屋 \n\n\n\nお問い合わせ：銀座越後屋　 \n\n\n\n梅鶯の候皆さまお健やかにお過ごしのことと存じます。２月１６日（金）から銀座越後屋様にて「春の衣裳展〜特集洛風林展」が開催されます。春に向けて彩り豊かな新作の帯たちを越後屋さん好みの美しいお着物と共にぜひお楽しみくださいませ。
URL:https://rakufulin.com/event/%e9%8a%80%e5%ba%a7%e8%b6%8a%e5%be%8c%e5%b1%8b%e3%80%8c%e6%98%a5%e3%81%ae%e8%a1%a3%e8%a3%b3%e5%b1%95%e3%80%80%e5%b7%a5%e8%8a%b8%e5%b8%af%e5%9c%b0%e6%b4%9b%e9%a2%a8%e6%9e%97%e5%b1%95%e3%80%8d
LOCATION:銀座越後屋\, 〒104-0061 東京都中央区銀座２−６−５銀座トレシャス1階
END:VEVENT
END:VCALENDAR