BEGIN:VCALENDAR
VERSION:2.0
PRODID:-//工芸帯地　洛風林 - ECPv6.1.3//NONSGML v1.0//EN
CALSCALE:GREGORIAN
METHOD:PUBLISH
X-ORIGINAL-URL:https://rakufulin.com
X-WR-CALDESC:工芸帯地　洛風林 のイベント
REFRESH-INTERVAL;VALUE=DURATION:PT1H
X-Robots-Tag:noindex
X-PUBLISHED-TTL:PT1H
BEGIN:VTIMEZONE
TZID:Asia/Tokyo
BEGIN:STANDARD
TZOFFSETFROM:+0900
TZOFFSETTO:+0900
TZNAME:JST
DTSTART:20240101T000000
END:STANDARD
END:VTIMEZONE
BEGIN:VEVENT
DTSTART;TZID=Asia/Tokyo:20240607T130000
DTEND;TZID=Asia/Tokyo:20240611T180000
DTSTAMP:20260422T113501
CREATED:20240530T052222Z
LAST-MODIFIED:20240530T052953Z
UID:7244-1717765200-1718128800@rakufulin.com
SUMMARY:洛風林展　きもの睦月にて
DESCRIPTION:洛風林展 \n\n\n\nとき：2024年6月7日（金）〜11日（火） \n\n\n\n　　13：00〜18：00（時間外でご来店希望ありましたらご連絡下さいませ） \n\n\n\n　　6月8日（土）13：00〜洛風林　堀江麗子お話会 \n\n\n\nところ：きもの睦月　 \n\n\n\n　　　　岐阜県羽鳥郡笠松町江川１１２
URL:https://rakufulin.com/event/%e6%b4%9b%e9%a2%a8%e6%9e%97%e5%b1%95%e3%80%80%e3%81%8d%e3%82%82%e3%81%ae%e7%9d%a6%e6%9c%88%e3%81%ab%e3%81%a6
LOCATION:きもの睦月\, 岐阜県羽島郡笠松町江川１１２
ORGANIZER;CN="%E3%81%8D%E3%82%82%E3%81%AE%E7%9D%A6%E6%9C%88":MAILTO:yokoyamamutsuki@me.com
END:VEVENT
END:VCALENDAR