BEGIN:VCALENDAR
VERSION:2.0
PRODID:-//工芸帯地　洛風林 - ECPv6.1.3//NONSGML v1.0//EN
CALSCALE:GREGORIAN
METHOD:PUBLISH
X-ORIGINAL-URL:https://rakufulin.com
X-WR-CALDESC:工芸帯地　洛風林 のイベント
REFRESH-INTERVAL;VALUE=DURATION:PT1H
X-Robots-Tag:noindex
X-PUBLISHED-TTL:PT1H
BEGIN:VTIMEZONE
TZID:Asia/Tokyo
BEGIN:STANDARD
TZOFFSETFROM:+0900
TZOFFSETTO:+0900
TZNAME:JST
DTSTART:20250101T000000
END:STANDARD
END:VTIMEZONE
BEGIN:VEVENT
DTSTART;TZID=Asia/Tokyo:20250411T110000
DTEND;TZID=Asia/Tokyo:20250414T170000
DTSTAMP:20260421T223330
CREATED:20250324T015512Z
LAST-MODIFIED:20250324T031539Z
UID:9307-1744369200-1744650000@rakufulin.com
SUMMARY:せき呉服店にて　　　　　　　　「工芸帯地　洛風林展」
DESCRIPTION:「工芸帯地　洛風林展」 \n\n\n\nとき：2025年４月11日(金)~14日(月)                                                                                　11：00~18：00（最終日17：00まで）  　＊11日~13日洛風林代表 堀江麗子 在廊 \n\n\n\nところ：指月ギャラリ− SHIGETSU GALLERY　　　 \n\n\n\n　札幌市中央区南1条西21丁目２-12 \n\n\n\n \n\n\n\n主催・お問い合わせ：せき呉服店　 \n\n\n\n〒064-0801札幌市中央区南1条西21丁目2−10　　 \n\n\n\n　　Tel.011−590-0105     \n\n\n\n　　営業時間11~18時　定休日：火・水曜 \n\n\n\n　　　せき呉服店instagram
URL:https://rakufulin.com/event/%e3%81%9b%e3%81%8d%e5%91%89%e6%9c%8d%e5%ba%97%e3%81%ab%e3%81%a6%e3%80%80%e3%80%8c%e5%b7%a5%e8%8a%b8%e5%b8%af%e5%9c%b0%e3%80%80%e6%b4%9b%e9%a2%a8%e6%9e%97%e5%b1%95%e3%80%8d
END:VEVENT
END:VCALENDAR