BEGIN:VCALENDAR
VERSION:2.0
PRODID:-//工芸帯地　洛風林 - ECPv6.1.3//NONSGML v1.0//EN
CALSCALE:GREGORIAN
METHOD:PUBLISH
X-WR-CALNAME:工芸帯地　洛風林
X-ORIGINAL-URL:https://rakufulin.com
X-WR-CALDESC:工芸帯地　洛風林 のイベント
REFRESH-INTERVAL;VALUE=DURATION:PT1H
X-Robots-Tag:noindex
X-PUBLISHED-TTL:PT1H
BEGIN:VTIMEZONE
TZID:Asia/Tokyo
BEGIN:STANDARD
TZOFFSETFROM:+0900
TZOFFSETTO:+0900
TZNAME:JST
DTSTART:20250101T000000
END:STANDARD
END:VTIMEZONE
BEGIN:VEVENT
DTSTART;TZID=Asia/Tokyo:20250610T100000
DTEND;TZID=Asia/Tokyo:20250615T190000
DTSTAMP:20260421T193938
CREATED:20250522T030033Z
LAST-MODIFIED:20250522T031228Z
UID:10002-1749549600-1750014000@rakufulin.com
SUMMARY:染と織　真美弥にて　洛風林展 ー響き合う帯と着物ー
DESCRIPTION:洛風林展ー響き合う帯と着物ー　 \n\n\n\n　とき　６月１０日(火)～１５日(日)　　　 \n\n\n\n　　　　10：00〜19：00 \n\n\n\n　　　　12日(木)洛風林代表 堀江麗子在店 \n\n\n\n　ところ　染と織　真美弥　にて　 \n\n\n\n　　　〒581-0013 大阪府八尾市山本町南 　 \n\n\n\n　　　＊　　＊　　＊ \n\n\n\n染と織　真美弥　ご案内より \n\n\n\n「洛風林さんとは初代社長さんの頃からの、50年近いお付き合いになります。その間、世の中も着物も変遷を続け、洛風林さんの帯も不動の芯は保ちつつ、次々と新しい帯を生み出してこられました。今回の展示会では、新作の袋帯・名古屋帯に加え、弊店所蔵の今では制作することのできないかつての洛風林帯も、併せてご覧頂きたいと思います。また、洛風林の帯とそれにふさわしい着物の数々を展示させて頂きますので、どうぞごゆっくりと、ご覧になってくださいませ。 \n\n\n\n６月12日(木)洛風林社長 堀江麗子氏が在店。洛風林の帯にまつわるお話をゆっくり、お聞きになってください。」 \n\n\n\n　　　＊　　＊　　＊　　 \n\n\n\n染と織　真美弥Instagram \n\n\n\n染と織　真美弥　展覧会詳細
URL:https://rakufulin.com/event/%e6%9f%93%e3%81%a8%e7%b9%94%e3%80%80%e7%9c%9f%e7%be%8e%e5%bc%a5%e3%81%ab%e3%81%a6%e3%80%80%e6%b4%9b%e9%a2%a8%e6%9e%97%e5%b1%95-%e3%83%bc%e9%9f%bf%e3%81%8d%e5%90%88%e3%81%86%e5%b8%af%e3%81%a8%e7%9d%80
LOCATION:染と織　真美弥\, 〒581-0013 　 大阪府八尾市山本町南 　 　　　　　　 1-11-16\, 日本
END:VEVENT
BEGIN:VEVENT
DTSTART;TZID=Asia/Tokyo:20250627T110000
DTEND;TZID=Asia/Tokyo:20250706T180000
DTSTAMP:20260421T193938
CREATED:20250610T070808Z
LAST-MODIFIED:20250613T011541Z
UID:10214-1751022000-1751824800@rakufulin.com
SUMMARY:銀座一穂堂　にて「洛風林と勝山健史　織の帯展」
DESCRIPTION:銀座一穂堂　「洛風林と勝山健史　織の帯」展 \n\n\n\nとき:2025年6月27日(金)~7月6日(日)　11:00~18:00 \n\n\n\nところ:銀座一穂堂東京都中央区銀座1-8-17 伊勢伊ビル3F営業時間 11:00~18:00 月曜定休※要予約 \n\n\n\nお問合せ・ご予約:tel.03-5159-0599 \n\n\n\nmail: tokyo@ippodogallery.com \n\n\n\n主催者ごあんない \n\n\n\n「洛風林は西陣帯地界で尊敬され憧れられた初代・堀江武氏から３代目。伝統を守りつつ　上質で独創的で特異な存在の帯匠。 \n\n\n\n勝山健史は19世紀末創業の西陣・勝山織物５代目。古くから伝わる本来の絹の透明感、軽さ、光沢を求め、 \n\n\n\n養蚕、機、染め、撚糸・・・・すべての工程に究極のこだわりを持って　息を飲むほどの美しく透き通るような布を織る。 \n\n\n\n今回　洛風林の堀江麗子さんと久しぶりの企画。彼女の努力と成長を見守ってきました。 \n\n\n\n \n\n\n\n \n\n\n\n洛風林と勝山健史のとっておきの世界。夏の着物と帯も並びます。                                         \n\n\n\n \n\n\n\n　　　　　　　　　　　　　　　　　　　　　　　　　　　　一穂堂　青野　惠子」 \n\n\n\n \n\n\n\n「勝山健史：19世紀末、京都西陣で創業の『勝山織物』５代目。長野県上伊那郡飯島町に養蚕・染色・製織一貫絹織物製作可能な工房。京都市右京区京北、周山に織物工房。2拠点にて絹織物製作にあたる。京北の織工房は1965年設立。主に織地、きもの製作。長野工房は2002年設立。主に国宝、重要文化財指定の修理絹布、きもの製作。2021年、長野工房責任者『志村明』が文化財保護法に基づき文化庁より『選定保存技術保持者』に認定される。」
URL:https://rakufulin.com/event/%e9%8a%80%e5%ba%a7%e4%b8%80%e7%a9%82%e5%a0%82%e3%80%80%e3%81%ab%e3%81%a6%e3%80%8c%e6%b4%9b%e9%a2%a8%e6%9e%97%e3%81%a8%e5%8b%9d%e5%b1%b1%e5%81%a5%e5%8f%b2%e3%80%80%e7%b9%94%e3%81%ae%e5%b8%af%e5%b1%95
LOCATION:銀座一穂堂\, 〒104-0061 東京都中央区銀座1-8-17 伊勢伊ビル3F
ORGANIZER;CN="%E9%8A%80%E5%BA%A7%E4%B8%80%E7%A9%82%E5%A0%82":MAILTO:tokyo@ippodogallery.com
END:VEVENT
END:VCALENDAR