BEGIN:VCALENDAR
VERSION:2.0
PRODID:-//工芸帯地　洛風林 - ECPv6.1.3//NONSGML v1.0//EN
CALSCALE:GREGORIAN
METHOD:PUBLISH
X-ORIGINAL-URL:https://rakufulin.com
X-WR-CALDESC:工芸帯地　洛風林 のイベント
REFRESH-INTERVAL;VALUE=DURATION:PT1H
X-Robots-Tag:noindex
X-PUBLISHED-TTL:PT1H
BEGIN:VTIMEZONE
TZID:Asia/Tokyo
BEGIN:STANDARD
TZOFFSETFROM:+0900
TZOFFSETTO:+0900
TZNAME:JST
DTSTART:20210101T000000
END:STANDARD
END:VTIMEZONE
BEGIN:VEVENT
DTSTART;TZID=Asia/Tokyo:20211112T100000
DTEND;TZID=Asia/Tokyo:20211115T180000
DTSTAMP:20260426T102936
CREATED:20211109T054048Z
LAST-MODIFIED:20211109T062215Z
UID:1829-1636711200-1636999200@rakufulin.com
SUMMARY:ぶどうのたね　きもの田中屋　にて「勝山健史　織物展」
DESCRIPTION:きもの田中屋　勝山健史　織物展　 \n\n\n\nとき：2021年11月12日（金）～15日（月）１０：００~１９：００※最終日18時まで（勝山健史在廊） \n\n\n\nところ：ぶどうのたね博多（博多リバレインモール１Ｆ）にて \n\n\n\nきもの田中屋様ご案内より　「毎年11月は勝山健史展です。今年で13年目を迎えます。『美しいものが作りたい』その想いでたどり着いたのが昔ながらの時間をかけたものづくりでした。分業による大量生産が始まる江戸時代以前の技術です。養蚕から製糸、織までを一貫して手掛ける仕事です。文化財の染織品の補修に必要な材料として提供され数多くの文化財修理に使用されてきました。その事で今年より文化庁より「国宝文化財等保存活用事業」の後援を頂く事になりました。勝山さんも会期中在店されます。どうぞご高覧くださいませ。　　　　　きもの田中屋」 \n\n\n\nぶどうのたね　きもの田中屋ＨＰhttps://www.budounotane.com/kimono_tanakaya/ \n\n\n\nきもの田中屋instagramhttps://www.instagram.com/kimonotanakaya/ \n\n\n\nきもの田中屋さんでの勝山健史展は今年で13回目を迎えます。 \n\n\n\n新作の帯をはじめ、今年文化庁から選定保存技術として認定を受けた長野での仕事(養蚕、製糸、製織の技法)を生かし現代の着物として制作された「有水羽絹」や、田中屋さん別注色の帯なども展示されます。会期中、勝山健史氏も在廊されますので、この機会にぜひご高覧ください。
URL:https://rakufulin.com/event/%e3%81%b6%e3%81%a9%e3%81%86%e3%81%ae%e3%81%9f%e3%81%ad%e3%80%80%e3%81%8d%e3%82%82%e3%81%ae%e7%94%b0%e4%b8%ad%e5%b1%8b%e3%80%80%e3%81%ab%e3%81%a6%e3%80%8c%e5%8b%9d%e5%b1%b1%e5%81%a5%e5%8f%b2%e3%80%80
LOCATION:ぶどうのたね博多\, 福岡市博多区下川端３－１\, 日本
END:VEVENT
END:VCALENDAR