BEGIN:VCALENDAR
VERSION:2.0
PRODID:-//工芸帯地　洛風林 - ECPv6.1.3//NONSGML v1.0//EN
CALSCALE:GREGORIAN
METHOD:PUBLISH
X-WR-CALNAME:工芸帯地　洛風林
X-ORIGINAL-URL:https://rakufulin.com
X-WR-CALDESC:工芸帯地　洛風林 のイベント
REFRESH-INTERVAL;VALUE=DURATION:PT1H
X-Robots-Tag:noindex
X-PUBLISHED-TTL:PT1H
BEGIN:VTIMEZONE
TZID:Asia/Tokyo
BEGIN:STANDARD
TZOFFSETFROM:+0900
TZOFFSETTO:+0900
TZNAME:JST
DTSTART:20230101T000000
END:STANDARD
END:VTIMEZONE
BEGIN:VEVENT
DTSTART;TZID=Asia/Tokyo:20230920T120000
DTEND;TZID=Asia/Tokyo:20230923T183000
DTSTAMP:20260425T000826
CREATED:20230907T025121Z
LAST-MODIFIED:20230907T025657Z
UID:5611-1695211200-1695493800@rakufulin.com
SUMMARY:青山　八木にて「勝山健史　織物展」
DESCRIPTION:勝山健史　織物展 \n\n\n\n２０２３年９月２０日（水）〜２３日（土） \n\n\n\n１２：００〜１８：３０ \n\n\n\n勝山健史氏が自身のものづくりを始めた当初から長年続けて下さっている青山八木さんでの個展です。 \n\n\n\n今年の作品テーマ「ハレとケ」の新作をはじめ、青山八木の世界観を色柄だけではなく生地から別注制作した帯などを中心に展示されます。 \n\n\n\n八木さんの美しいコーディネートも必見です。ぜひご高覧ください。 \n\n\n\n展示会の詳細は青山八木様にお問い合わせください。 \n\n\n\n「 今回は５月に発表された勝山さんの新柄と今までの青山八木好みの柄を生地と配色を変えて製作して頂いたものを中心に発表します。配色変えは今までにもありましたが生地変えは今回が初めてでございます。さて、どのように織り上がるのか楽しみです。皆様のご高覧を心よりお待ちしております。」（青山八木Instagram   https://www.instagram.com/aoyama_yagi/ より）
URL:https://rakufulin.com/event/%e9%9d%92%e5%b1%b1%e3%80%80%e5%85%ab%e6%9c%a8%e3%81%ab%e3%81%a6%e3%80%8c%e5%8b%9d%e5%b1%b1%e5%81%a5%e5%8f%b2%e3%80%80%e7%b9%94%e7%89%a9%e5%b1%95%e3%80%8d
LOCATION:青山　八木\, 1070062 南青山1-4-2 八並ビル1階\, 日本
ORGANIZER;CN="%E9%9D%92%E5%B1%B1%E3%80%80%E5%85%AB%E6%9C%A8":MAILTO:aoyamayg@titan.ocn.ne.jp
END:VEVENT
END:VCALENDAR