BEGIN:VCALENDAR
VERSION:2.0
PRODID:-//工芸帯地　洛風林 - ECPv6.1.3//NONSGML v1.0//EN
CALSCALE:GREGORIAN
METHOD:PUBLISH
X-ORIGINAL-URL:https://rakufulin.com
X-WR-CALDESC:工芸帯地　洛風林 のイベント
REFRESH-INTERVAL;VALUE=DURATION:PT1H
X-Robots-Tag:noindex
X-PUBLISHED-TTL:PT1H
BEGIN:VTIMEZONE
TZID:Asia/Tokyo
BEGIN:STANDARD
TZOFFSETFROM:+0900
TZOFFSETTO:+0900
TZNAME:JST
DTSTART:20240101T000000
END:STANDARD
END:VTIMEZONE
BEGIN:VEVENT
DTSTART;TZID=Asia/Tokyo:20241129T130000
DTEND;TZID=Asia/Tokyo:20241201T180000
DTSTAMP:20260422T052037
CREATED:20240801T080718Z
LAST-MODIFIED:20241105T040636Z
UID:7622-1732885200-1733076000@rakufulin.com
SUMMARY:勝山健史織物展　「間」
DESCRIPTION:勝山健史　織物展「間」 \n\n\n\n \n\n\n\n\n\n\n\n\n\n\n\nご案内詳細ダウンロード\n\n\n\n勝山健史氏　ごあいさつ \n\n\n\n「間」 \n\n\n\nお陰様で個人の名前で作品を発表して、今年15周年を迎える事が出来ました。これもひとえに皆様のお陰様と感謝しております。 \n\n\n\n作品作りに集中させていただいている洛風林さん、毎年発表する度にご指導頂きながらお取り扱い頂いている小売店様、15年を振り返って改めて皆様のご尽力あっての自分だと気付かされます。 \n\n\n\n今回の作品は、古来より日本人が図柄を構成する上で大切にしてきた「間」、（空白であったり、余白であったり）を意識して作品を作りました。 \n\n\n\n作品作りを始めた時から今もずっと大切にしてきた素材の美しさ、その美しさがあっての「間」。 \n\n\n\nお太鼓に結んだ時に見える「間」を感じて頂けたら幸いです。 \n\n\n\n私事ではありますが、今年２月１６、１７日と「選定保存技術」認定の記念として京都日仏学館にて「絹の領域」と題した作品展示を開催いたしました。 \n\n\n\n長野の一貫生産だから作り得る美しい絹を八領展示させていただきました。 \n\n\n\nその時いらして頂いた方々から感嘆詞のいっぱいついたコメントを頂き、今までやって来た事が間違いではなく、今後も続けて行く事が使命なんだと実感いたしました。 \n\n\n\n日本の大切な文化財を後世に伝えて、譲って行く為に必要不可欠な仕事だと決意し次世代に繋げていく所存です。 \n\n\n\n何卒今後ともご支援頂けますよう、宜しくお願いいたします。　 \n\n\n\n　　　　　　　　　　　　　　　　　　　　　　　　　　　　　勝山　健史 \n\n\n\n＊＊＊＊＊ \n\n\n\n主催者ごあいさつ \n\n\n\n第十五回勝山健史織物展「間」 \n\n\n\n今年、勝山健史織物展は15周年を迎えました。今日まで作品展を続けてこれましたのは皆様方のあたたかい応援とご愛顧の賜物でございますこと心より感謝申し上げます。一方、昨今のものづくりに於いて厳しい現状の中、勝山健史氏の絹織物製作に対する探究心や並々ならぬ努力、そして何より美しい絹文化を後世につなぐための篤い使命感や意欲をますます感じております。 \n\n\n\n節目となります十五回目のテーマ「間」は勝山氏が美しいと感じる日本独特の「余白の美」を表現されています。絹織物作りに於いて糸や生地の美しさを最も大切にしている勝山氏が捉える「間の美」。 \n\n\n\n新作の絹織物たちをはじめ十五年の歩みとしてこれまでの勝山健史作品も皆さまにご高覧お楽しみいただけましたら幸いです。 \n\n\n\nまた十五周年記念として五月の東京代官山に続き、京都展でも11月30日(土)、12月1日(日)各日14時からギャラリートークを予定しておりますのでぜひご参加くださいませ。 \n\n\n\n令和六年十一月 \n\n\n\n工芸帯地　洛風林　堀江麗子 \n\n\n\n✳︎✳︎✳︎✳︎✳︎ \n\n\n\n✳︎✳︎✳︎✳︎✳︎ \n\n\n\n展覧会詳細 \n\n\n\n日時：2024年 \n\n\n\n　　　11月29日（金）13：00〜18：00 \n\n\n\n　　　　　 30日（土）11：00〜18：00 \n\n\n\n　　　　12月1日（日）11：00〜17：00 \n\n\n\n主催・お問合せ：工芸帯地　洛風林 \n\n\n\n　Tel.075-231-6536 又は洛風林websiteのお問い合わせフォームをご利用ください。（お問い合わせフォームは会期３日前までにご連絡お願い致します。） \n\n\n\n　　　　
URL:https://rakufulin.com/event/%e5%8b%9d%e5%b1%b1%e5%81%a5%e5%8f%b2%e7%b9%94%e7%89%a9%e5%b1%95%e3%80%80%e3%80%8c%e9%96%93%e3%80%8d
LOCATION:国立京都国際会館\, 京都府京都市左京区岩倉宝ヶ池町\, 日本
END:VEVENT
END:VCALENDAR