BEGIN:VCALENDAR
VERSION:2.0
PRODID:-//工芸帯地　洛風林 - ECPv6.1.3//NONSGML v1.0//EN
CALSCALE:GREGORIAN
METHOD:PUBLISH
X-WR-CALNAME:工芸帯地　洛風林
X-ORIGINAL-URL:https://rakufulin.com
X-WR-CALDESC:工芸帯地　洛風林 のイベント
REFRESH-INTERVAL;VALUE=DURATION:PT1H
X-Robots-Tag:noindex
X-PUBLISHED-TTL:PT1H
BEGIN:VTIMEZONE
TZID:Asia/Tokyo
BEGIN:STANDARD
TZOFFSETFROM:+0900
TZOFFSETTO:+0900
TZNAME:JST
DTSTART:20250101T000000
END:STANDARD
END:VTIMEZONE
BEGIN:VEVENT
DTSTART;TZID=Asia/Tokyo:20250214T100000
DTEND;TZID=Asia/Tokyo:20250217T180000
DTSTAMP:20260422T024217
CREATED:20250128T015254Z
LAST-MODIFIED:20250128T041909Z
UID:8745-1739527200-1739815200@rakufulin.com
SUMMARY:きもの田中屋 二月会「工芸帯地　洛風林の会」
DESCRIPTION:きもの田中屋　２月の会　工芸帯地　洛風林展 \n\n\n\nとき：2025年２月１４日(金)~１７日(月) \n\n\n\n１０：００〜１８：３０（最終日は１８：００まで） \n\n\n\nところ：ぶどうのたね博多(リバレインモール１F)　 \n\n\n\n \n\n\n\n福岡市博多区下川端 3-1 リバレインモール1F \n\n\n\nお問い合わせ：きもの  田中屋　                                                                                                                       \n\n\n\n                       tel.0943-77-5922             \n\n\n\n　　　　　　　きもの田中屋instagram
URL:https://rakufulin.com/event/%e3%81%8d%e3%82%82%e3%81%ae%e7%94%b0%e4%b8%ad%e5%b1%8b%e3%80%80%e4%ba%8c%e6%9c%88%e4%bc%9a%e3%80%80%e3%80%80%e3%80%80%e3%80%80%e3%80%80%e3%80%80%e3%80%80%e3%80%80%e3%80%80%e3%80%80%e3%80%8c%e5%b7%a5
LOCATION:ぶどうのたねー博多リバレイン\, 福岡市博多区下川端町3番1号\, 812-0027\, 日本
END:VEVENT
END:VCALENDAR