BEGIN:VCALENDAR
VERSION:2.0
PRODID:-//工芸帯地　洛風林 - ECPv6.1.3//NONSGML v1.0//EN
CALSCALE:GREGORIAN
METHOD:PUBLISH
X-WR-CALNAME:工芸帯地　洛風林
X-ORIGINAL-URL:https://rakufulin.com
X-WR-CALDESC:工芸帯地　洛風林 のイベント
REFRESH-INTERVAL;VALUE=DURATION:PT1H
X-Robots-Tag:noindex
X-PUBLISHED-TTL:PT1H
BEGIN:VTIMEZONE
TZID:Asia/Tokyo
BEGIN:STANDARD
TZOFFSETFROM:+0900
TZOFFSETTO:+0900
TZNAME:JST
DTSTART:20250101T000000
END:STANDARD
END:VTIMEZONE
BEGIN:VEVENT
DTSTART;TZID=Asia/Tokyo:20250312T100000
DTEND;TZID=Asia/Tokyo:20250316T180000
DTSTAMP:20260422T012024
CREATED:20250307T072832Z
LAST-MODIFIED:20250310T005504Z
UID:9141-1741773600-1742148000@rakufulin.com
SUMMARY:伊勢丹新宿店　「春の三四十会」
DESCRIPTION:染織逸品　春の三四十会 \n\n\n\nとき:2025年3月12日(水)〜16日(日) \n\n\n\n　　10:00〜20:00(※最終日は18:00まで) \n\n\n\nところ・お問い合わせ先:伊勢丹新宿店　本館7階　呉服/特選きもの \n\n\n\nwebsite:https://www.mistore.jp \n\n\n\ninstagram:ISETAN KIMONO \n\n\n\n　　　
URL:https://rakufulin.com/event/%e4%bc%8a%e5%8b%a2%e4%b8%b9%e6%96%b0%e5%ae%bf%e5%ba%97%e3%80%80%e3%80%8c%e6%98%a5%e3%81%ae%e4%b8%89%e5%9b%9b%e5%8d%81%e4%bc%9a%e3%80%8d-2
LOCATION:伊勢丹　新宿店\, 〒160-0022 東京都新宿区新宿3-14-1\, 日本
END:VEVENT
END:VCALENDAR