BEGIN:VCALENDAR
VERSION:2.0
PRODID:-//工芸帯地　洛風林 - ECPv6.1.3//NONSGML v1.0//EN
CALSCALE:GREGORIAN
METHOD:PUBLISH
X-ORIGINAL-URL:https://rakufulin.com
X-WR-CALDESC:工芸帯地　洛風林 のイベント
REFRESH-INTERVAL;VALUE=DURATION:PT1H
X-Robots-Tag:noindex
X-PUBLISHED-TTL:PT1H
BEGIN:VTIMEZONE
TZID:Asia/Tokyo
BEGIN:STANDARD
TZOFFSETFROM:+0900
TZOFFSETTO:+0900
TZNAME:JST
DTSTART:20250101T000000
END:STANDARD
END:VTIMEZONE
BEGIN:VEVENT
DTSTART;TZID=Asia/Tokyo:20250919T223000
DTEND;TZID=Asia/Tokyo:20250923T183000
DTSTAMP:20260421T164254
CREATED:20250911T032717Z
LAST-MODIFIED:20250911T034737Z
UID:10854-1758321000-1758652200@rakufulin.com
SUMMARY:たのしいきもの叶や にて「工芸帯地　洛風林」展
DESCRIPTION:「工芸帯地　洛風林展」 \n\n\n\nとき：2025年9月19日(金)〜23日(火・祝) \n\n\n\n20日(土）、21日(日)洛風林代表　堀江麗子在店 \n\n\n\nところ：たのしいきもの 叶や　店内 \n\n\n\n〒730-0029 広島県広島市中区三川町4-13 TAKEDA BUILD.1986 \n\n\n\n　Tel.０８２２４７４４０１ \n\n\n\n　　　　
URL:https://rakufulin.com/event/%e3%81%9f%e3%81%ae%e3%81%97%e3%81%84%e3%81%8d%e3%82%82%e3%81%ae%e3%80%80%e5%8f%b6%e3%82%84%e3%81%ab%e3%81%a6%e3%80%80%e3%80%8c%e5%b7%a5%e8%8a%b8%e5%b8%af%e5%9c%b0%e3%80%80%e6%b4%9b%e9%a2%a8%e6%9e%97
LOCATION:たのしいきもの 叶や\, 〒730-0029 広島県広島市中区三川町4-13 TAKEDA BUILD.1986\, 日本
END:VEVENT
END:VCALENDAR