BEGIN:VCALENDAR
VERSION:2.0
PRODID:-//工芸帯地　洛風林 - ECPv6.1.3//NONSGML v1.0//EN
CALSCALE:GREGORIAN
METHOD:PUBLISH
X-ORIGINAL-URL:https://rakufulin.com
X-WR-CALDESC:工芸帯地　洛風林 のイベント
REFRESH-INTERVAL;VALUE=DURATION:PT1H
X-Robots-Tag:noindex
X-PUBLISHED-TTL:PT1H
BEGIN:VTIMEZONE
TZID:Asia/Tokyo
BEGIN:STANDARD
TZOFFSETFROM:+0900
TZOFFSETTO:+0900
TZNAME:JST
DTSTART:20250101T000000
END:STANDARD
END:VTIMEZONE
BEGIN:VEVENT
DTSTART;TZID=Asia/Tokyo:20251017T100000
DTEND;TZID=Asia/Tokyo:20251020T183000
DTSTAMP:20260421T152451
CREATED:20251009T043345Z
LAST-MODIFIED:20251009T044157Z
UID:10857-1760695200-1760985000@rakufulin.com
SUMMARY:ぶどうのたね博多 きもの 田中屋にて「勝山健史　織物展」
DESCRIPTION:きもの田中屋「勝山健史織物 展　〜第16回　慣習移易〜」　 \n\n\n\nとき：2025年10月17日(金)~20日(月) \n\n\n\n　　　10:00〜18:30（最終日18:00まで） \n\n\n\nところ：ぶどうのたね博多　福岡市博多区下川端3-1リバレインモール1Fにて \n\n\n\n主催：うきは　きもの田中屋　Instagram \n\n\n\n『毎年続けて開催出来る事に感謝しています。長く毎年勝山さんの作品を楽しみにしてくださる方、勝山さんの帯を見たかったんですと言って初めて見て下さる方、色んな方々に応援して頂きながら毎年ドキドキしながらの会です。 \n\n\n\n今年も新作や柄は見たことあるけど糸が違う？色が違う？勝山健史展だからこそ濃いめの内容で開催いたします。4日間勝山健史も在店されます。』きもの田中屋様ご案内より \n\n\n\n✳︎会期中は勝山健史氏が在店されます。✳︎展示会の詳細はきもの田中屋様へお問合せください。kimonotanakaya  090-3604-5055
URL:https://rakufulin.com/event/%e3%81%86%e3%81%8d%e3%81%af%e3%80%80%e3%81%8d%e3%82%82%e3%81%ae-%e7%94%b0%e4%b8%ad%e5%b1%8b%e3%81%ab%e3%81%a6%e3%80%8c%e5%8b%9d%e5%b1%b1%e5%81%a5%e5%8f%b2%e3%80%80%e7%b9%94%e7%89%a9%e5%b1%95%e3%80%8d
LOCATION:ぶどうのたねー博多リバレイン\, 福岡市博多区下川端町3番1号\, 812-0027\, 日本
END:VEVENT
END:VCALENDAR